BEGIN:VCALENDAR
VERSION:2.0
PRODID:-//L&#039;incongrue - ECPv6.15.20//NONSGML v1.0//EN
CALSCALE:GREGORIAN
METHOD:PUBLISH
X-ORIGINAL-URL:https://lincongrue.fr
X-WR-CALDESC:Évènements pour L&#039;incongrue
REFRESH-INTERVAL;VALUE=DURATION:PT1H
X-Robots-Tag:noindex
X-PUBLISHED-TTL:PT1H
BEGIN:VTIMEZONE
TZID:Europe/Paris
BEGIN:DAYLIGHT
TZOFFSETFROM:+0100
TZOFFSETTO:+0200
TZNAME:CEST
DTSTART:20240331T010000
END:DAYLIGHT
BEGIN:STANDARD
TZOFFSETFROM:+0200
TZOFFSETTO:+0100
TZNAME:CET
DTSTART:20241027T010000
END:STANDARD
BEGIN:DAYLIGHT
TZOFFSETFROM:+0100
TZOFFSETTO:+0200
TZNAME:CEST
DTSTART:20250330T010000
END:DAYLIGHT
BEGIN:STANDARD
TZOFFSETFROM:+0200
TZOFFSETTO:+0100
TZNAME:CET
DTSTART:20251026T010000
END:STANDARD
BEGIN:DAYLIGHT
TZOFFSETFROM:+0100
TZOFFSETTO:+0200
TZNAME:CEST
DTSTART:20260329T010000
END:DAYLIGHT
BEGIN:STANDARD
TZOFFSETFROM:+0200
TZOFFSETTO:+0100
TZNAME:CET
DTSTART:20261025T010000
END:STANDARD
END:VTIMEZONE
BEGIN:VEVENT
DTSTART;VALUE=DATE:20251027
DTEND;VALUE=DATE:20251103
DTSTAMP:20260422T182757
CREATED:20250916T110434Z
LAST-MODIFIED:20251102T235230Z
UID:48111-1761523200-1762127999@lincongrue.fr
SUMMARY:Vacances de L'Incongrue
DESCRIPTION:
URL:https://lincongrue.fr/event/vacances-de-lincongrue-3/
LOCATION:Salle de L’Incongrue\, 32 Grand Rue\, Gières\, 38610\, France
CATEGORIES:Evenement
ATTACH;FMTTYPE=image/jpeg:https://lincongrue.fr/wp-content/uploads/2025/09/Vacances-Toussaint-2025.jpg
END:VEVENT
BEGIN:VEVENT
DTSTART;TZID=Europe/Paris:20251104T190000
DTEND;TZID=Europe/Paris:20251104T220000
DTSTAMP:20260422T182757
CREATED:20251014T093829Z
LAST-MODIFIED:20251104T203729Z
UID:48827-1762282800-1762293600@lincongrue.fr
SUMMARY:Soirée Coinche
DESCRIPTION:
URL:https://lincongrue.fr/event/soiree-coinche-34/
LOCATION:Salle de L’Incongrue\, 32 Grand Rue\, Gières\, 38610\, France
CATEGORIES:Activités
ATTACH;FMTTYPE=image/jpeg:https://lincongrue.fr/wp-content/uploads/2025/03/Soiree-Coinche_Mardi2.jpg
END:VEVENT
BEGIN:VEVENT
DTSTART;TZID=Europe/Paris:20251105T070000
DTEND;TZID=Europe/Paris:20251105T120000
DTSTAMP:20260422T182757
CREATED:20251014T101514Z
LAST-MODIFIED:20251014T101544Z
UID:47885-1762326000-1762344000@lincongrue.fr
SUMMARY:L'Incongrue est au marché
DESCRIPTION:
URL:https://lincongrue.fr/event/lincongrue-est-au-marche-3/
CATEGORIES:Activités
ATTACH;FMTTYPE=image/jpeg:https://lincongrue.fr/wp-content/uploads/2025/10/1.jpg
END:VEVENT
BEGIN:VEVENT
DTSTART;TZID=Europe/Paris:20251105T184500
DTEND;TZID=Europe/Paris:20251105T193000
DTSTAMP:20260422T182757
CREATED:20251014T094311Z
LAST-MODIFIED:20251105T180730Z
UID:48359-1762368300-1762371000@lincongrue.fr
SUMMARY:Course à pied
DESCRIPTION:
URL:https://lincongrue.fr/event/course-a-pied-7/
LOCATION:salle des Fêtes\, 18 rue des martinets\, Gières\, 38610\, France
CATEGORIES:Activités
ATTACH;FMTTYPE=image/jpeg:https://lincongrue.fr/wp-content/uploads/2025/09/Course-a-pied_051.jpg
END:VEVENT
BEGIN:VEVENT
DTSTART;TZID=Europe/Paris:20251106T160000
DTEND;TZID=Europe/Paris:20251106T170000
DTSTAMP:20260422T182757
CREATED:20251014T094237Z
LAST-MODIFIED:20251106T155231Z
UID:49266-1762444800-1762448400@lincongrue.fr
SUMMARY:Aide au numérique
DESCRIPTION:Vous avez une question liée au numérique\, une démarche compliquée\, un truc que vous en comprenez pas avec votre téléphone ou votre ordinateur\, Robin est là pour vous aider!
URL:https://lincongrue.fr/event/aide-au-numerique-4/
LOCATION:Salle de L’Incongrue\, 32 Grand Rue\, Gières\, 38610\, France
CATEGORIES:Activités
ATTACH;FMTTYPE=image/jpeg:https://lincongrue.fr/wp-content/uploads/2024/11/Atelier-aide-numerique_242.jpg
END:VEVENT
BEGIN:VEVENT
DTSTART;TZID=Europe/Paris:20251106T170000
DTEND;TZID=Europe/Paris:20251106T190000
DTSTAMP:20260422T182757
CREATED:20251106T105628Z
LAST-MODIFIED:20251106T173728Z
UID:51423-1762448400-1762455600@lincongrue.fr
SUMMARY:Ecriture
DESCRIPTION:
URL:https://lincongrue.fr/event/ecriture-14/
CATEGORIES:Activités
ATTACH;FMTTYPE=image/jpeg:https://lincongrue.fr/wp-content/uploads/2025/11/Atelier-ecriture_05_251.jpg
END:VEVENT
BEGIN:VEVENT
DTSTART;TZID=Europe/Paris:20251107T161500
DTEND;TZID=Europe/Paris:20251107T174500
DTSTAMP:20260422T182757
CREATED:20251014T095125Z
LAST-MODIFIED:20251107T163730Z
UID:49703-1762532100-1762537500@lincongrue.fr
SUMMARY:Visite des Tiers Lieux Cotlico
DESCRIPTION:Venue à l’incongrue de la visite des Tiers-Lieux de Cotlico\, réseau des Tiers-Lieux de l’Isère ! Une occasion de rencontre sympathique avec des porteurs de projets et tout à chacun intéressé par ce que sont les Tiers-Lieux !
URL:https://lincongrue.fr/event/visite-des-tiers-lieux-cotlico/
LOCATION:Salle de L’Incongrue\, 32 Grand Rue\, Gières\, 38610\, France
CATEGORIES:Evenement
END:VEVENT
BEGIN:VEVENT
DTSTART;TZID=Europe/Paris:20251107T180000
DTEND;TZID=Europe/Paris:20251107T210000
DTSTAMP:20260422T182757
CREATED:20251014T095232Z
LAST-MODIFIED:20251107T195229Z
UID:48805-1762538400-1762549200@lincongrue.fr
SUMMARY:Réparons ensemble
DESCRIPTION:Un objet\, un vélo à réparer ?\nVenez et réparons le ensemble. Nos bénévoles bricolos sont plein de talents et de bons conseils pour vous aider à faire par vous même\, comme ça la prochaine fois vous saurez le faire 😉 !\nAtelier à prix Libre !\nA très vite alors
URL:https://lincongrue.fr/event/reparons-ensemble-20/
LOCATION:Salle de L’Incongrue\, 32 Grand Rue\, Gières\, 38610\, France
CATEGORIES:Activités
ATTACH;FMTTYPE=image/jpeg:https://lincongrue.fr/wp-content/uploads/2025/10/Affiche-Reparation-Salle-Incongrue_09_252-1.jpg
END:VEVENT
BEGIN:VEVENT
DTSTART;TZID=Europe/Paris:20251108T093000
DTEND;TZID=Europe/Paris:20251108T103000
DTSTAMP:20260422T182757
CREATED:20251014T095406Z
LAST-MODIFIED:20251108T090730Z
UID:48361-1762594200-1762597800@lincongrue.fr
SUMMARY:Course à pied
DESCRIPTION:
URL:https://lincongrue.fr/event/course-a-pied-8/
LOCATION:Salle de L’Incongrue\, 32 Grand Rue\, Gières\, 38610\, France
CATEGORIES:Activités
ATTACH;FMTTYPE=image/jpeg:https://lincongrue.fr/wp-content/uploads/2025/09/Course-a-pied_051.jpg
END:VEVENT
BEGIN:VEVENT
DTSTART;TZID=Europe/Paris:20251110T090000
DTEND;TZID=Europe/Paris:20251110T120000
DTSTAMP:20260422T182757
CREATED:20251014T095724Z
LAST-MODIFIED:20251110T105229Z
UID:48829-1762765200-1762776000@lincongrue.fr
SUMMARY:Atelier Couture et/ou Tricot
DESCRIPTION:Venez avec votre projet pour coudre ou tricoter. C’est plus sympa de le faire à plusieurs.\nBrigitte ou Marie Chantal pourront vous donner quelques conseils si besoin.\nMachines sur places et un peu de tissus si besoin.\nUn atelier à prix libre pour 5 personnes 😉 !\nInscrivez-vous 😉 !
URL:https://lincongrue.fr/event/atelier-couture-et-ou-tricot-63/
LOCATION:Salle de L’Incongrue\, 32 Grand Rue\, Gières\, 38610\, France
CATEGORIES:Activités
ATTACH;FMTTYPE=image/jpeg:https://lincongrue.fr/wp-content/uploads/2024/12/Atelier-Cousons-Ensemble-.jpg
END:VEVENT
BEGIN:VEVENT
DTSTART;TZID=Europe/Paris:20251110T143000
DTEND;TZID=Europe/Paris:20251110T170000
DTSTAMP:20260422T182757
CREATED:20251014T100138Z
LAST-MODIFIED:20251110T153730Z
UID:48830-1762785000-1762794000@lincongrue.fr
SUMMARY:Atelier couture et/ou tricot
DESCRIPTION:Venez avec votre projet pour coudre ou tricoter. C’est plus sympa de le faire à plusieurs.\nBrigitte ou Marie Chantal pourront vous donner quelques conseils si besoin.\nMachines sur places et un peu de tissus si besoin.\nUn atelier à prix libre pour 5 personnes 😉 !\nInscrivez-vous 😉 !
URL:https://lincongrue.fr/event/atelier-couture-et-ou-tricot-64/
LOCATION:Salle de L’Incongrue\, 32 Grand Rue\, Gières\, 38610\, France
CATEGORIES:Activités
ATTACH;FMTTYPE=image/jpeg:https://lincongrue.fr/wp-content/uploads/2024/12/Atelier-Cousons-Ensemble-.jpg
END:VEVENT
BEGIN:VEVENT
DTSTART;TZID=Europe/Paris:20251112T070000
DTEND;TZID=Europe/Paris:20251112T120000
DTSTAMP:20260422T182757
CREATED:20251014T101624Z
LAST-MODIFIED:20251014T101624Z
UID:47887-1762930800-1762948800@lincongrue.fr
SUMMARY:L'Incongrue est au marché
DESCRIPTION:
URL:https://lincongrue.fr/event/lincongrue-est-au-marche-4/
CATEGORIES:Activités
ATTACH;FMTTYPE=image/jpeg:https://lincongrue.fr/wp-content/uploads/2025/10/1.jpg
END:VEVENT
BEGIN:VEVENT
DTSTART;TZID=Europe/Paris:20251112T184500
DTEND;TZID=Europe/Paris:20251112T193000
DTSTAMP:20260422T182757
CREATED:20251014T101317Z
LAST-MODIFIED:20251112T180731Z
UID:48363-1762973100-1762975800@lincongrue.fr
SUMMARY:Course à pied
DESCRIPTION:
URL:https://lincongrue.fr/event/course-a-pied-9/
LOCATION:salle des Fêtes\, 18 rue des martinets\, Gières\, 38610\, France
CATEGORIES:Activités
ATTACH;FMTTYPE=image/jpeg:https://lincongrue.fr/wp-content/uploads/2025/09/Course-a-pied_051.jpg
END:VEVENT
BEGIN:VEVENT
DTSTART;TZID=Europe/Paris:20251113T160000
DTEND;TZID=Europe/Paris:20251113T170000
DTSTAMP:20260422T182757
CREATED:20251014T101714Z
LAST-MODIFIED:20251113T153730Z
UID:49267-1763049600-1763053200@lincongrue.fr
SUMMARY:Aide au numérique
DESCRIPTION:Vous avez une question liée au numérique\, une démarche compliquée\, un truc que vous en comprenez pas avec votre téléphone ou votre ordinateur\, Robin est là pour vous aider!
URL:https://lincongrue.fr/event/aide-au-numerique-5/
CATEGORIES:Activités
ATTACH;FMTTYPE=image/jpeg:https://lincongrue.fr/wp-content/uploads/2024/11/Atelier-aide-numerique_242.jpg
END:VEVENT
BEGIN:VEVENT
DTSTART;TZID=Europe/Paris:20251113T190000
DTEND;TZID=Europe/Paris:20251113T210000
DTSTAMP:20260422T182757
CREATED:20251014T101915Z
LAST-MODIFIED:20251113T195230Z
UID:49404-1763060400-1763067600@lincongrue.fr
SUMMARY:Discussion autour d'un livre
DESCRIPTION:Le livre choisi pour cette séance est:\n« Ame brisée » de Akira Miyubayashi
URL:https://lincongrue.fr/event/discussion-autour-dun-livre-13/
LOCATION:Salle de L’Incongrue\, 32 Grand Rue\, Gières\, 38610\, France
CATEGORIES:Activités
ATTACH;FMTTYPE=image/jpeg:https://lincongrue.fr/wp-content/uploads/2024/10/Copie-de-LIncongrue-discussion-autour-dun-livre-1.jpg
END:VEVENT
BEGIN:VEVENT
DTSTART;TZID=Europe/Paris:20251113T193000
DTEND;TZID=Europe/Paris:20251113T213000
DTSTAMP:20260422T182757
CREATED:20251108T060011Z
LAST-MODIFIED:20251113T202230Z
UID:50480-1763062200-1763069400@lincongrue.fr
SUMMARY:Atelier partagé Bois/Métal
DESCRIPTION:Venez découvrir l’atelier partagé à l’Incongrue\, un lieu pour bricoler ensembles\, partager des outils\, apprendre et transmettre.
URL:https://lincongrue.fr/event/atelier-partage-bois-metal-2/
CATEGORIES:Activités
ATTACH;FMTTYPE=image/jpeg:https://lincongrue.fr/wp-content/uploads/2025/11/Atelier-bois-metal_06_252.jpg
END:VEVENT
BEGIN:VEVENT
DTSTART;TZID=Europe/Paris:20251115T090000
DTEND;TZID=Europe/Paris:20251115T120000
DTSTAMP:20260422T182757
CREATED:20251014T102524Z
LAST-MODIFIED:20251115T103730Z
UID:47888-1763197200-1763208000@lincongrue.fr
SUMMARY:Couture avec Aida
DESCRIPTION:Venez passer un bon moment autour de la couture\, que vous sachiez coudre ou non.\nNous pourrons coudre ensemble des petits cadeaux pour Noël ou autres…..
URL:https://lincongrue.fr/event/couture-avec-aida-2/
LOCATION:Salle de L’Incongrue\, 32 Grand Rue\, Gières\, 38610\, France
CATEGORIES:Activités
ATTACH;FMTTYPE=image/jpeg:https://lincongrue.fr/wp-content/uploads/2025/10/Atelier-Couture-Incongrue_06_231.jpg
END:VEVENT
BEGIN:VEVENT
DTSTART;TZID=Europe/Paris:20251115T093000
DTEND;TZID=Europe/Paris:20251115T103000
DTSTAMP:20260422T182757
CREATED:20251014T102000Z
LAST-MODIFIED:20251115T090729Z
UID:48364-1763199000-1763202600@lincongrue.fr
SUMMARY:Course à pied
DESCRIPTION:
URL:https://lincongrue.fr/event/course-a-pied-10/
LOCATION:salle des Fêtes\, 18 rue des martinets\, Gières\, 38610\, France
CATEGORIES:Activités
ATTACH;FMTTYPE=image/jpeg:https://lincongrue.fr/wp-content/uploads/2025/09/Course-a-pied_051.jpg
END:VEVENT
BEGIN:VEVENT
DTSTART;TZID=Europe/Paris:20251117T090000
DTEND;TZID=Europe/Paris:20251117T120000
DTSTAMP:20260422T182757
CREATED:20251014T102124Z
LAST-MODIFIED:20251117T105230Z
UID:48831-1763370000-1763380800@lincongrue.fr
SUMMARY:Atelier Couture et/ou Tricot
DESCRIPTION:Venez avec votre projet pour coudre ou tricoter. C’est plus sympa de le faire à plusieurs.\nBrigitte ou Marie Chantal pourront vous donner quelques conseils si besoin.\nMachines sur places et un peu de tissus si besoin.\nUn atelier à prix libre pour 5 personnes 😉 !\nInscrivez-vous 😉 !
URL:https://lincongrue.fr/event/atelier-couture-et-ou-tricot-65/
LOCATION:Salle de L’Incongrue\, 32 Grand Rue\, Gières\, 38610\, France
CATEGORIES:Activités
ATTACH;FMTTYPE=image/jpeg:https://lincongrue.fr/wp-content/uploads/2024/12/Atelier-Cousons-Ensemble-.jpg
END:VEVENT
BEGIN:VEVENT
DTSTART;TZID=Europe/Paris:20251117T143000
DTEND;TZID=Europe/Paris:20251117T170000
DTSTAMP:20260422T182757
CREATED:20251014T102643Z
LAST-MODIFIED:20251117T153731Z
UID:48832-1763389800-1763398800@lincongrue.fr
SUMMARY:Atelier couture et/ou tricot
DESCRIPTION:Venez avec votre projet pour coudre ou tricoter. C’est plus sympa de le faire à plusieurs.\nBrigitte ou Marie Chantal pourront vous donner quelques conseils si besoin.\nMachines sur places et un peu de tissus si besoin.\nUn atelier à prix libre pour 5 personnes 😉 !\nInscrivez-vous 😉 !
URL:https://lincongrue.fr/event/atelier-couture-et-ou-tricot-66/
LOCATION:Salle de L’Incongrue\, 32 Grand Rue\, Gières\, 38610\, France
CATEGORIES:Activités
ATTACH;FMTTYPE=image/jpeg:https://lincongrue.fr/wp-content/uploads/2024/12/Atelier-Cousons-Ensemble-.jpg
END:VEVENT
BEGIN:VEVENT
DTSTART;TZID=Europe/Paris:20251118T173000
DTEND;TZID=Europe/Paris:20251118T190000
DTSTAMP:20260422T182757
CREATED:20251014T103118Z
LAST-MODIFIED:20251118T173730Z
UID:49421-1763487000-1763492400@lincongrue.fr
SUMMARY:Aquarelle : travailler le blanc
DESCRIPTION:pour 5-6 personnes\nà partir de 13 ans.\nVenez travailler votre technique de blanc.
URL:https://lincongrue.fr/event/aquarelle-travailler-le-blanc/
LOCATION:Salle de L’Incongrue\, 32 Grand Rue\, Gières\, 38610\, France
CATEGORIES:Activités
ATTACH;FMTTYPE=image/jpeg:https://lincongrue.fr/wp-content/uploads/2025/10/Atelier-aquarelle_12.jpg
END:VEVENT
BEGIN:VEVENT
DTSTART;TZID=Europe/Paris:20251118T200000
DTEND;TZID=Europe/Paris:20251118T220000
DTSTAMP:20260422T182757
CREATED:20251113T081723Z
LAST-MODIFIED:20251118T203731Z
UID:50491-1763496000-1763503200@lincongrue.fr
SUMMARY:Soirée Jeux
DESCRIPTION:
URL:https://lincongrue.fr/event/soiree-jeux-23/
LOCATION:Salle de L’Incongrue\, 32 Grand Rue\, Gières\, 38610\, France
CATEGORIES:Activités
ATTACH;FMTTYPE=image/jpeg:https://lincongrue.fr/wp-content/uploads/2025/11/Soiree-Jeux-de-societe_07_253.jpg
END:VEVENT
BEGIN:VEVENT
DTSTART;TZID=Europe/Paris:20251119T070000
DTEND;TZID=Europe/Paris:20251119T120000
DTSTAMP:20260422T182757
CREATED:20251014T102811Z
LAST-MODIFIED:20251014T102811Z
UID:47889-1763535600-1763553600@lincongrue.fr
SUMMARY:L'Incongrue est au marché
DESCRIPTION:
URL:https://lincongrue.fr/event/lincongrue-est-au-marche-5/
CATEGORIES:Activités
ATTACH;FMTTYPE=image/jpeg:https://lincongrue.fr/wp-content/uploads/2025/10/1.jpg
END:VEVENT
BEGIN:VEVENT
DTSTART;TZID=Europe/Paris:20251119T093000
DTEND;TZID=Europe/Paris:20251119T120000
DTSTAMP:20260422T182757
CREATED:20251014T103322Z
LAST-MODIFIED:20251119T105229Z
UID:48699-1763544600-1763553600@lincongrue.fr
SUMMARY:Atelier de co-réparation vélo au Marché
DESCRIPTION:Nos animateurs expérimentés proposent un atelier de co-réparation de vélo au marché\, place de République.
URL:https://lincongrue.fr/event/atelier-de-co-reparation-velo-au-marche-5/
LOCATION:Place de la République\, Place de la République\, Gieres\, 38610\, France
CATEGORIES:Activités
ATTACH;FMTTYPE=image/jpeg:https://lincongrue.fr/wp-content/uploads/2025/10/Co-Reparation-Velo-.jpg
END:VEVENT
BEGIN:VEVENT
DTSTART;TZID=Europe/Paris:20251119T184500
DTEND;TZID=Europe/Paris:20251119T193000
DTSTAMP:20260422T182757
CREATED:20251014T103556Z
LAST-MODIFIED:20251119T182230Z
UID:48366-1763577900-1763580600@lincongrue.fr
SUMMARY:Course à pied
DESCRIPTION:
URL:https://lincongrue.fr/event/course-a-pied-11/
LOCATION:salle des Fêtes\, 18 rue des martinets\, Gières\, 38610\, France
CATEGORIES:Activités
ATTACH;FMTTYPE=image/jpeg:https://lincongrue.fr/wp-content/uploads/2025/09/Course-a-pied_051.jpg
END:VEVENT
BEGIN:VEVENT
DTSTART;TZID=Europe/Paris:20251119T190000
DTEND;TZID=Europe/Paris:20251119T210000
DTSTAMP:20260422T182757
CREATED:20251014T103827Z
LAST-MODIFIED:20251119T195229Z
UID:49311-1763578800-1763586000@lincongrue.fr
SUMMARY:Soirée Echecs
DESCRIPTION:Une soirée pour joue aux Echecs et affronter différents joueurs et niveaux !\nC’est mieux que Chess.com !!\nPrix Libre !\nA très vite.
URL:https://lincongrue.fr/event/soiree-echecs-8/
CATEGORIES:Activités
ATTACH;FMTTYPE=image/jpeg:https://lincongrue.fr/wp-content/uploads/2025/10/Soiree-Echecs_11_25.jpg
END:VEVENT
BEGIN:VEVENT
DTSTART;TZID=Europe/Paris:20251120T160000
DTEND;TZID=Europe/Paris:20251120T170000
DTSTAMP:20260422T182757
CREATED:20251014T103912Z
LAST-MODIFIED:20251120T155229Z
UID:49268-1763654400-1763658000@lincongrue.fr
SUMMARY:ANNULE - Aide au numérique
DESCRIPTION:ATTENTION ANNULE – Vous avez une question liée au numérique\, une démarche compliquée\, un truc que vous en comprenez pas avec votre téléphone ou votre ordinateur\, Robin est là pour vous aider!
URL:https://lincongrue.fr/event/aide-au-numerique-6/
CATEGORIES:Activités
END:VEVENT
BEGIN:VEVENT
DTSTART;TZID=Europe/Paris:20251120T193000
DTEND;TZID=Europe/Paris:20251120T210000
DTSTAMP:20260422T182757
CREATED:20251014T104230Z
LAST-MODIFIED:20251120T195227Z
UID:50147-1763667000-1763672400@lincongrue.fr
SUMMARY:Quizz Naturopathie
DESCRIPTION:Un rendez-vous en mode ludique pour tester vos connaissances et en apprendre plus sur la naturopathie\, en mode « vrai ou faux ? ».\nAu plaisir !
URL:https://lincongrue.fr/event/quizz-naturo/
LOCATION:Salle de L’Incongrue\, 32 Grand Rue\, Gières\, 38610\, France
CATEGORIES:Evenement
ATTACH;FMTTYPE=image/jpeg:https://lincongrue.fr/wp-content/uploads/2025/10/Discussion-naturopathie2.jpg
END:VEVENT
BEGIN:VEVENT
DTSTART;TZID=Europe/Paris:20251121T193000
DTEND;TZID=Europe/Paris:20251121T210000
DTSTAMP:20260422T182757
CREATED:20251014T104517Z
LAST-MODIFIED:20251121T195229Z
UID:48633-1763753400-1763758800@lincongrue.fr
SUMMARY:Soirée Just Dance à la salle des fêtes
DESCRIPTION:
URL:https://lincongrue.fr/event/soiree-just-dance-a-la-salle-des-fetes/
LOCATION:salle des Fêtes\, 18 rue des martinets\, Gières\, 38610\, France
CATEGORIES:Evenement
ATTACH;FMTTYPE=image/jpeg:https://lincongrue.fr/wp-content/uploads/2025/10/Just-Dance_01_255.jpg
END:VEVENT
BEGIN:VEVENT
DTSTART;TZID=Europe/Paris:20251122T093000
DTEND;TZID=Europe/Paris:20251122T103000
DTSTAMP:20260422T182757
CREATED:20251014T120123Z
LAST-MODIFIED:20251122T090840Z
UID:48367-1763803800-1763807400@lincongrue.fr
SUMMARY:Course à pied
DESCRIPTION:
URL:https://lincongrue.fr/event/course-a-pied-12/
LOCATION:salle des Fêtes\, 18 rue des martinets\, Gières\, 38610\, France
CATEGORIES:Activités
ATTACH;FMTTYPE=image/jpeg:https://lincongrue.fr/wp-content/uploads/2025/09/Course-a-pied_051.jpg
END:VEVENT
END:VCALENDAR