BEGIN:VCALENDAR
VERSION:2.0
PRODID:-//L&#039;incongrue - ECPv6.15.20//NONSGML v1.0//EN
CALSCALE:GREGORIAN
METHOD:PUBLISH
X-ORIGINAL-URL:https://lincongrue.fr
X-WR-CALDESC:Évènements pour L&#039;incongrue
REFRESH-INTERVAL;VALUE=DURATION:PT1H
X-Robots-Tag:noindex
X-PUBLISHED-TTL:PT1H
BEGIN:VTIMEZONE
TZID:Europe/Paris
BEGIN:DAYLIGHT
TZOFFSETFROM:+0100
TZOFFSETTO:+0200
TZNAME:CEST
DTSTART:20240331T010000
END:DAYLIGHT
BEGIN:STANDARD
TZOFFSETFROM:+0200
TZOFFSETTO:+0100
TZNAME:CET
DTSTART:20241027T010000
END:STANDARD
BEGIN:DAYLIGHT
TZOFFSETFROM:+0100
TZOFFSETTO:+0200
TZNAME:CEST
DTSTART:20250330T010000
END:DAYLIGHT
BEGIN:STANDARD
TZOFFSETFROM:+0200
TZOFFSETTO:+0100
TZNAME:CET
DTSTART:20251026T010000
END:STANDARD
BEGIN:DAYLIGHT
TZOFFSETFROM:+0100
TZOFFSETTO:+0200
TZNAME:CEST
DTSTART:20260329T010000
END:DAYLIGHT
BEGIN:STANDARD
TZOFFSETFROM:+0200
TZOFFSETTO:+0100
TZNAME:CET
DTSTART:20261025T010000
END:STANDARD
END:VTIMEZONE
BEGIN:VEVENT
DTSTART;TZID=Europe/Paris:20251003T180000
DTEND;TZID=Europe/Paris:20251003T210000
DTSTAMP:20260422T165618
CREATED:20250916T100426Z
LAST-MODIFIED:20251003T182230Z
UID:47782-1759514400-1759525200@lincongrue.fr
SUMMARY:Réparons ensemble
DESCRIPTION:Un objet\, un vélo à réparer ?\nVenez et réparons le ensemble. Nos bénévoles bricolos sont plein de talents et de bons conseils pour vous aider à faire par vous même\, comme ça la prochaine fois vous saurez le faire 😉 !\nAtelier à prix Libre !\nA très vite alors
URL:https://lincongrue.fr/event/reparons-ensemble-19/
LOCATION:Salle de L’Incongrue\, 32 Grand Rue\, Gières\, 38610\, France
CATEGORIES:Activités
ATTACH;FMTTYPE=image/jpeg:https://lincongrue.fr/wp-content/uploads/2025/09/Affiche-Reparation-Salle-Incongrue_09_25.jpg
END:VEVENT
BEGIN:VEVENT
DTSTART;TZID=Europe/Paris:20251004T140000
DTEND;TZID=Europe/Paris:20251004T160000
DTSTAMP:20260422T165618
CREATED:20250916T132933Z
LAST-MODIFIED:20251004T133730Z
UID:44175-1759586400-1759593600@lincongrue.fr
SUMMARY:Après-midi Ludothèque à la Bibliothèque
DESCRIPTION:
URL:https://lincongrue.fr/event/soiree-ludotheque-a-la-bibli/
CATEGORIES:Activités
ATTACH;FMTTYPE=image/jpeg:https://lincongrue.fr/wp-content/uploads/2025/09/Ludotheque-bibli.jpg
END:VEVENT
BEGIN:VEVENT
DTSTART;TZID=Europe/Paris:20251006T090000
DTEND;TZID=Europe/Paris:20251006T120000
DTSTAMP:20260422T165618
CREATED:20250916T100546Z
LAST-MODIFIED:20251006T092230Z
UID:48098-1759741200-1759752000@lincongrue.fr
SUMMARY:Atelier Couture et/ou Tricot
DESCRIPTION:Venez avec votre projet poru coudre ou tricoter. C’est plus sympa de le faire à plusieurs.\nBrigitte ou Marie Chantal pourront vous donner quelques conseils si besoin.\nMachines sur places et un peu de tissus si besoin.\nUn atelier à prix libre pour 5 personnes 😉 !\nInscirvez-vous 😉 !
URL:https://lincongrue.fr/event/atelier-couture-et-ou-tricot-55/
LOCATION:Salle de L’Incongrue\, 32 Grand Rue\, Gières\, 38610\, France
CATEGORIES:Activités
ATTACH;FMTTYPE=image/jpeg:https://lincongrue.fr/wp-content/uploads/2024/12/Atelier-Cousons-Ensemble-.jpg
END:VEVENT
BEGIN:VEVENT
DTSTART;TZID=Europe/Paris:20251006T143000
DTEND;TZID=Europe/Paris:20251006T170000
DTSTAMP:20260422T165618
CREATED:20250916T100640Z
LAST-MODIFIED:20251006T145229Z
UID:48099-1759761000-1759770000@lincongrue.fr
SUMMARY:Atelier couture et/ou tricot
DESCRIPTION:Venez avec votre projet poru coudre ou tricoter. C’est plus sympa de le faire à plusieurs.\nBrigitte ou Marie Chantal pourront vous donner quelques conseils si besoin.\nMachines sur places et un peu de tissus si besoin.\nUn atelier à prix libre pour 5 personnes 😉 !\nInscirvez-vous 😉 !
URL:https://lincongrue.fr/event/atelier-couture-et-ou-tricot-56/
LOCATION:Salle de L’Incongrue\, 32 Grand Rue\, Gières\, 38610\, France
CATEGORIES:Activités
ATTACH;FMTTYPE=image/jpeg:https://lincongrue.fr/wp-content/uploads/2024/12/Atelier-Cousons-Ensemble-.jpg
END:VEVENT
BEGIN:VEVENT
DTSTART;TZID=Europe/Paris:20251007T090000
DTEND;TZID=Europe/Paris:20251007T120000
DTSTAMP:20260422T165618
CREATED:20250626T164833Z
LAST-MODIFIED:20251007T093730Z
UID:40830-1759827600-1759838400@lincongrue.fr
SUMMARY:Formation NOVA 3/5
DESCRIPTION:Une Formation à la non violence Active\, proposée par Maylis et Claire en lien avec l’Incongrue\nInfos et réservations: 0651606908 / mailto:maylis.dealmeida@lilo.org
URL:https://lincongrue.fr/event/formation-nova-3-5/
LOCATION:Salle de L’Incongrue\, 32 Grand Rue\, Gières\, 38610\, France
CATEGORIES:Formations
ATTACH;FMTTYPE=image/png:https://lincongrue.fr/wp-content/uploads/2025/06/Animee-par-Maylis-De-Almeida-Claire-Huan.png
END:VEVENT
BEGIN:VEVENT
DTSTART;TZID=Europe/Paris:20251007T190000
DTEND;TZID=Europe/Paris:20251007T220000
DTSTAMP:20260422T165618
CREATED:20250916T100741Z
LAST-MODIFIED:20251007T192231Z
UID:48100-1759863600-1759874400@lincongrue.fr
SUMMARY:Soirée Coinche
DESCRIPTION:
URL:https://lincongrue.fr/event/soiree-coinche-33/
LOCATION:Salle de L’Incongrue\, 32 Grand Rue\, Gières\, 38610\, France
CATEGORIES:Activités
ATTACH;FMTTYPE=image/jpeg:https://lincongrue.fr/wp-content/uploads/2025/03/Soiree-Coinche_Mardi2.jpg
END:VEVENT
BEGIN:VEVENT
DTSTART;TZID=Europe/Paris:20251008T093000
DTEND;TZID=Europe/Paris:20251008T120000
DTSTAMP:20260422T165618
CREATED:20250916T100857Z
LAST-MODIFIED:20251008T095231Z
UID:48698-1759915800-1759924800@lincongrue.fr
SUMMARY:Atelier de co-réparation vélo au Marché
DESCRIPTION:Nos animateurs expérimentés proposent un atelier de co-réparation de vélo au marché\, place de République.
URL:https://lincongrue.fr/event/atelier-de-co-reparation-velo-au-marche-4/
LOCATION:Place de la République\, Place de la République\, Gieres\, 38610\, France
CATEGORIES:Activités
ATTACH;FMTTYPE=image/jpeg:https://lincongrue.fr/wp-content/uploads/2025/09/Copie-de-Co-Reparation-Velo-3.jpg
END:VEVENT
BEGIN:VEVENT
DTSTART;TZID=Europe/Paris:20251008T184500
DTEND;TZID=Europe/Paris:20251008T193000
DTSTAMP:20260422T165618
CREATED:20250916T101348Z
LAST-MODIFIED:20251008T172228Z
UID:48345-1759949100-1759951800@lincongrue.fr
SUMMARY:Course à pied
DESCRIPTION:
URL:https://lincongrue.fr/event/course-a-pied/
LOCATION:salle des Fêtes\, 18 rue des martinets\, Gières\, 38610\, France
CATEGORIES:Activités
ATTACH;FMTTYPE=image/jpeg:https://lincongrue.fr/wp-content/uploads/2025/09/Course-a-pied_051.jpg
END:VEVENT
BEGIN:VEVENT
DTSTART;TZID=Europe/Paris:20251009T160000
DTEND;TZID=Europe/Paris:20251009T170000
DTSTAMP:20260422T165618
CREATED:20250916T101447Z
LAST-MODIFIED:20251009T145231Z
UID:48500-1760025600-1760029200@lincongrue.fr
SUMMARY:Aide au numérique
DESCRIPTION:Vous avez une question liée au numérique\, une démarche compliquée\, un truc que vous en comprenez pas avec votre téléphone ou votre ordinateur\, Robin est là pour vous aider!
URL:https://lincongrue.fr/event/aide-au-numerique/
LOCATION:Salle de L’Incongrue\, 32 Grand Rue\, Gières\, 38610\, France
CATEGORIES:Activités
ATTACH;FMTTYPE=image/jpeg:https://lincongrue.fr/wp-content/uploads/2024/11/Atelier-aide-numerique_242.jpg
END:VEVENT
BEGIN:VEVENT
DTSTART;TZID=Europe/Paris:20251011T090000
DTEND;TZID=Europe/Paris:20251011T120000
DTSTAMP:20260422T165618
CREATED:20250916T112927Z
LAST-MODIFIED:20251011T092231Z
UID:47866-1760173200-1760184000@lincongrue.fr
SUMMARY:Couture avec Aida
DESCRIPTION:Venez passer un bon moment autour de la couture\, que vous sachiez coudre ou non.\nNous pourrons coudre ensemble des petits cadeaux pour Noël ou autres…..
URL:https://lincongrue.fr/event/couture-avec-aida/
LOCATION:Salle de L’Incongrue\, 32 Grand Rue\, Gières\, 38610\, France
CATEGORIES:Activités
ATTACH;FMTTYPE=image/jpeg:https://lincongrue.fr/wp-content/uploads/2025/09/Atelier-Couture-Incongrue_06_23.jpg
END:VEVENT
BEGIN:VEVENT
DTSTART;TZID=Europe/Paris:20251011T090000
DTEND;TZID=Europe/Paris:20251011T120000
DTSTAMP:20260422T165618
CREATED:20250916T132102Z
LAST-MODIFIED:20251011T092231Z
UID:48985-1760173200-1760184000@lincongrue.fr
SUMMARY:Balade Observation des oiseaux
DESCRIPTION:Une proposition conjointe avec le CCAS et la LPO !\nUn Evénement gratuit\, ouvert à toutes et tous.\nVenez découvrir les animaux qui vivent\nautour de chez vous !\nApportez si vous avez votre\ncarnet\, vos jumelles ou un\nappareil photo\nInscription obligatoire auprès du\nCCAS : 04.76.89.86.83 ccas@gieres.fr
URL:https://lincongrue.fr/event/balade-observation-des-oiseaux/
LOCATION:grange Michal\, 15 rue victor hugo\, Gières\, 38610\, France
CATEGORIES:Activités
ATTACH;FMTTYPE=image/jpeg:https://lincongrue.fr/wp-content/uploads/2025/09/Affiche-balade-oiseau-oct25.jpg
END:VEVENT
BEGIN:VEVENT
DTSTART;TZID=Europe/Paris:20251011T093000
DTEND;TZID=Europe/Paris:20251011T103000
DTSTAMP:20260422T165618
CREATED:20250916T101406Z
LAST-MODIFIED:20251011T082231Z
UID:48346-1760175000-1760178600@lincongrue.fr
SUMMARY:Course à pied
DESCRIPTION:
URL:https://lincongrue.fr/event/course-a-pied-2/
LOCATION:salle des Fêtes\, 18 rue des martinets\, Gières\, 38610\, France
CATEGORIES:Activités
ATTACH;FMTTYPE=image/jpeg:https://lincongrue.fr/wp-content/uploads/2025/09/Course-a-pied_051.jpg
END:VEVENT
BEGIN:VEVENT
DTSTART;TZID=Europe/Paris:20251011T200000
DTEND;TZID=Europe/Paris:20251011T223000
DTSTAMP:20260422T165618
CREATED:20250923T140418Z
LAST-MODIFIED:20251011T200729Z
UID:49244-1760212800-1760221800@lincongrue.fr
SUMMARY:Observation des Etoiles !
DESCRIPTION:Une soirée proposée par la mairie avec un Astrophysicien pour observer les étoiles et mieux comprendre la beauté du ciel juste au dessus de nos têtes.\nConférence et Observation des étoiles à 20h\nÉvènement animé par Alexandre Santerne\, enseignant chercheur en astrophysique. Présentation en salle du conseil d’une conférence astro / climat  suivie d’une séance d’observation du ciel avec un télescope sur l’esplanade du 8 mai 1945.\nà partir de 21h30\, Nous y serons avec la remorque de L’Incongrue pour y donner une petite touche convivial et rafraichissante.\nhttps://jourdelanuit.fr/evenement/6338228613496499100
URL:https://lincongrue.fr/event/remorque-au-parc-pour-observation-des-etoiles/
CATEGORIES:Evenement
ATTACH;FMTTYPE=image/jpeg:https://lincongrue.fr/wp-content/uploads/2025/09/le-jour-de-la-nuit_10_25-1.jpg
END:VEVENT
BEGIN:VEVENT
DTSTART;TZID=Europe/Paris:20251013T143000
DTEND;TZID=Europe/Paris:20251013T170000
DTSTAMP:20260422T165618
CREATED:20250916T102214Z
LAST-MODIFIED:20251013T145233Z
UID:48820-1760365800-1760374800@lincongrue.fr
SUMMARY:Atelier couture et/ou tricot
DESCRIPTION:Venez avec votre projet pour coudre ou tricoter. C’est plus sympa de le faire à plusieurs.\nBrigitte ou Marie Chantal pourront vous donner quelques conseils si besoin.\nMachines sur places et un peu de tissus si besoin.\nUn atelier à prix libre pour 5 personnes 😉 !\nInscrivez-vous 😉 !
URL:https://lincongrue.fr/event/atelier-couture-et-ou-tricot-59/
LOCATION:Salle de L’Incongrue\, 32 Grand Rue\, Gières\, 38610\, France
CATEGORIES:Activités
ATTACH;FMTTYPE=image/jpeg:https://lincongrue.fr/wp-content/uploads/2024/12/Atelier-Cousons-Ensemble-.jpg
END:VEVENT
BEGIN:VEVENT
DTSTART;TZID=Europe/Paris:20251013T143000
DTEND;TZID=Europe/Paris:20251013T170000
DTSTAMP:20260422T165618
CREATED:20250916T102247Z
LAST-MODIFIED:20250916T102247Z
UID:48101-1760365800-1760374800@lincongrue.fr
SUMMARY:Atelier couture et/ou tricot
DESCRIPTION:Venez avec votre projet poru coudre ou tricoter. C’est plus sympa de le faire à plusieurs.\nBrigitte ou Marie Chantal pourront vous donner quelques conseils si besoin.\nMachines sur places et un peu de tissus si besoin.\nUn atelier à prix libre pour 5 personnes 😉 !\nInscirvez-vous 😉 !
URL:https://lincongrue.fr/event/atelier-couture-et-ou-tricot-60/
LOCATION:Salle de L’Incongrue\, 32 Grand Rue\, Gières\, 38610\, France
CATEGORIES:Activités
ATTACH;FMTTYPE=image/jpeg:https://lincongrue.fr/wp-content/uploads/2024/12/Atelier-Cousons-Ensemble-.jpg
END:VEVENT
BEGIN:VEVENT
DTSTART;TZID=Europe/Paris:20251014T173000
DTEND;TZID=Europe/Paris:20251014T190000
DTSTAMP:20260422T165618
CREATED:20250916T105319Z
LAST-MODIFIED:20251014T163730Z
UID:48348-1760463000-1760468400@lincongrue.fr
SUMMARY:Crochet
DESCRIPTION:
URL:https://lincongrue.fr/event/crochet-5/
LOCATION:Salle de L’Incongrue\, 32 Grand Rue\, Gières\, 38610\, France
CATEGORIES:Activités
ATTACH;FMTTYPE=image/jpeg:https://lincongrue.fr/wp-content/uploads/2025/09/Atelier-Crochet-Incongrue.jpg
END:VEVENT
BEGIN:VEVENT
DTSTART;TZID=Europe/Paris:20251014T194500
DTEND;TZID=Europe/Paris:20251014T220000
DTSTAMP:20260422T165618
CREATED:20250916T101930Z
LAST-MODIFIED:20251014T195229Z
UID:48103-1760471100-1760479200@lincongrue.fr
SUMMARY:Soirée jeux
DESCRIPTION:
URL:https://lincongrue.fr/event/soiree-jeux-22/
LOCATION:Salle de L’Incongrue\, 32 Grand Rue\, Gières\, 38610\, France
CATEGORIES:Activités
ATTACH;FMTTYPE=image/jpeg:https://lincongrue.fr/wp-content/uploads/2025/09/Soiree-Jeux-de-societe_07_25.jpg
END:VEVENT
BEGIN:VEVENT
DTSTART;TZID=Europe/Paris:20251015T070000
DTEND;TZID=Europe/Paris:20251015T120000
DTSTAMP:20260422T165618
CREATED:20250916T104503Z
LAST-MODIFIED:20251015T095231Z
UID:47872-1760511600-1760529600@lincongrue.fr
SUMMARY:L'Incongrue est au marché
DESCRIPTION:La remorque est sur le marché de Gières\, venez papoter\, boire un café\, un sirop ou un jus de fruits !
URL:https://lincongrue.fr/event/lincongrue-est-au-marche/
CATEGORIES:Activités
ATTACH;FMTTYPE=image/jpeg:https://lincongrue.fr/wp-content/uploads/2025/09/Copie-de-Copie-de-Co-Reparation-Velo-.jpg
END:VEVENT
BEGIN:VEVENT
DTSTART;TZID=Europe/Paris:20251015T184500
DTEND;TZID=Europe/Paris:20251015T193000
DTSTAMP:20260422T165618
CREATED:20250916T104527Z
LAST-MODIFIED:20251015T172231Z
UID:48349-1760553900-1760556600@lincongrue.fr
SUMMARY:Course à pied
DESCRIPTION:
URL:https://lincongrue.fr/event/course-a-pied-3/
LOCATION:salle des Fêtes\, 18 rue des martinets\, Gières\, 38610\, France
CATEGORIES:Activités
ATTACH;FMTTYPE=image/jpeg:https://lincongrue.fr/wp-content/uploads/2025/09/Course-a-pied_051.jpg
END:VEVENT
BEGIN:VEVENT
DTSTART;TZID=Europe/Paris:20251016T160000
DTEND;TZID=Europe/Paris:20251016T170000
DTSTAMP:20260422T165618
CREATED:20250916T104651Z
LAST-MODIFIED:20250922T152311Z
UID:48501-1760630400-1760634000@lincongrue.fr
SUMMARY:Aide au numérique
DESCRIPTION:Vous avez une question liée au numérique\, une démarche compliquée\, un truc que vous en comprenez pas avec votre téléphone ou votre ordinateur\, Robin est là pour vous aider!
URL:https://lincongrue.fr/event/aide-au-numerique-2/
LOCATION:Salle de L’Incongrue\, 32 Grand Rue\, Gières\, 38610\, France
CATEGORIES:Activités
ATTACH;FMTTYPE=image/jpeg:https://lincongrue.fr/wp-content/uploads/2024/11/Atelier-aide-numerique_242.jpg
END:VEVENT
BEGIN:VEVENT
DTSTART;TZID=Europe/Paris:20251016T190000
DTEND;TZID=Europe/Paris:20251016T210000
DTSTAMP:20260422T165618
CREATED:20250916T105120Z
LAST-MODIFIED:20251016T185230Z
UID:48350-1760641200-1760648400@lincongrue.fr
SUMMARY:ANNULE - Discussion autour d'un livre
DESCRIPTION:ATTENTION – ANNULE – Le livre choisi pour cette séance est:\n« Ame brisée » de l’écrivain japonais Akira MIZUBAYASHI
URL:https://lincongrue.fr/event/discussion-autour-dun-livre-12/
LOCATION:Salle de L’Incongrue\, 32 Grand Rue\, Gières\, 38610\, France
CATEGORIES:Activités
ATTACH;FMTTYPE=image/jpeg:https://lincongrue.fr/wp-content/uploads/2025/09/LIncongrue-discussion-autour-dun-livre_12_246.jpg
END:VEVENT
BEGIN:VEVENT
DTSTART;TZID=Europe/Paris:20251018T093000
DTEND;TZID=Europe/Paris:20251018T103000
DTSTAMP:20260422T165618
CREATED:20250916T104916Z
LAST-MODIFIED:20251018T082229Z
UID:48351-1760779800-1760783400@lincongrue.fr
SUMMARY:Course à pied
DESCRIPTION:
URL:https://lincongrue.fr/event/course-a-pied-4/
LOCATION:Salle de L’Incongrue\, 32 Grand Rue\, Gières\, 38610\, France
CATEGORIES:Activités
ATTACH;FMTTYPE=image/jpeg:https://lincongrue.fr/wp-content/uploads/2025/09/Course-a-pied_051.jpg
END:VEVENT
BEGIN:VEVENT
DTSTART;TZID=Europe/Paris:20251020T090000
DTEND;TZID=Europe/Paris:20251020T120000
DTSTAMP:20260422T165618
CREATED:20250916T104840Z
LAST-MODIFIED:20251020T095228Z
UID:48821-1760950800-1760961600@lincongrue.fr
SUMMARY:Atelier Couture et/ou Tricot
DESCRIPTION:Venez avec votre projet pour coudre ou tricoter. C’est plus sympa de le faire à plusieurs.\nBrigitte ou Marie Chantal pourront vous donner quelques conseils si besoin.\nMachines sur places et un peu de tissus si besoin.\nUn atelier à prix libre pour 5 personnes 😉 !\nInscrivez-vous 😉 !
URL:https://lincongrue.fr/event/atelier-couture-et-ou-tricot-61/
LOCATION:Salle de L’Incongrue\, 32 Grand Rue\, Gières\, 38610\, France
CATEGORIES:Activités
ATTACH;FMTTYPE=image/jpeg:https://lincongrue.fr/wp-content/uploads/2024/12/Atelier-Cousons-Ensemble-.jpg
END:VEVENT
BEGIN:VEVENT
DTSTART;TZID=Europe/Paris:20251020T143000
DTEND;TZID=Europe/Paris:20251020T170000
DTSTAMP:20260422T165618
CREATED:20250916T105449Z
LAST-MODIFIED:20251020T142229Z
UID:48822-1760970600-1760979600@lincongrue.fr
SUMMARY:Atelier couture et/ou tricot
DESCRIPTION:Venez avec votre projet pour coudre ou tricoter. C’est plus sympa de le faire à plusieurs.\nBrigitte ou Marie Chantal pourront vous donner quelques conseils si besoin.\nMachines sur places et un peu de tissus si besoin.\nUn atelier à prix libre pour 5 personnes 😉 !\nInscrivez-vous 😉 !
URL:https://lincongrue.fr/event/atelier-couture-et-ou-tricot-62/
LOCATION:Salle de L’Incongrue\, 32 Grand Rue\, Gières\, 38610\, France
CATEGORIES:Activités
ATTACH;FMTTYPE=image/jpeg:https://lincongrue.fr/wp-content/uploads/2024/12/Atelier-Cousons-Ensemble-.jpg
END:VEVENT
BEGIN:VEVENT
DTSTART;TZID=Europe/Paris:20251022T070000
DTEND;TZID=Europe/Paris:20251022T120000
DTSTAMP:20260422T165618
CREATED:20250916T105146Z
LAST-MODIFIED:20251022T095231Z
UID:47878-1761116400-1761134400@lincongrue.fr
SUMMARY:L'Incongrue est au marché
DESCRIPTION:La remorque est sur le marché de Gières\, venez papoter\, boire un café\, un sirop ou un jus de fruits !
URL:https://lincongrue.fr/event/lincongrue-est-au-marche-2/
CATEGORIES:Activités
ATTACH;FMTTYPE=image/jpeg:https://lincongrue.fr/wp-content/uploads/2025/09/Copie-de-Copie-de-Co-Reparation-Velo-.jpg
END:VEVENT
BEGIN:VEVENT
DTSTART;TZID=Europe/Paris:20251022T184500
DTEND;TZID=Europe/Paris:20251022T193000
DTSTAMP:20260422T165618
CREATED:20250916T105621Z
LAST-MODIFIED:20251022T172232Z
UID:48352-1761158700-1761161400@lincongrue.fr
SUMMARY:Course à pied
DESCRIPTION:
URL:https://lincongrue.fr/event/course-a-pied-5/
LOCATION:salle des Fêtes\, 18 rue des martinets\, Gières\, 38610\, France
CATEGORIES:Activités
ATTACH;FMTTYPE=image/jpeg:https://lincongrue.fr/wp-content/uploads/2025/09/Course-a-pied_051.jpg
END:VEVENT
BEGIN:VEVENT
DTSTART;TZID=Europe/Paris:20251023T160000
DTEND;TZID=Europe/Paris:20251023T170000
DTSTAMP:20260422T165618
CREATED:20250923T135044Z
LAST-MODIFIED:20251023T145254Z
UID:49265-1761235200-1761238800@lincongrue.fr
SUMMARY:Aide au numérique
DESCRIPTION:Vous avez une question liée au numérique\, une démarche compliquée\, un truc que vous en comprenez pas avec votre téléphone ou votre ordinateur\, Robin est là pour vous aider!
URL:https://lincongrue.fr/event/aide-au-numerique-3/
LOCATION:Salle de L’Incongrue\, 32 Grand Rue\, Gières\, 38610\, France
CATEGORIES:Activités
ATTACH;FMTTYPE=image/jpeg:https://lincongrue.fr/wp-content/uploads/2024/11/Atelier-aide-numerique_242.jpg
END:VEVENT
BEGIN:VEVENT
DTSTART;TZID=Europe/Paris:20251025T093000
DTEND;TZID=Europe/Paris:20251025T103000
DTSTAMP:20260422T165618
CREATED:20250916T105638Z
LAST-MODIFIED:20251025T080729Z
UID:48353-1761384600-1761388200@lincongrue.fr
SUMMARY:Course à pied
DESCRIPTION:
URL:https://lincongrue.fr/event/course-a-pied-6/
LOCATION:salle des Fêtes\, 18 rue des martinets\, Gières\, 38610\, France
CATEGORIES:Activités
ATTACH;FMTTYPE=image/jpeg:https://lincongrue.fr/wp-content/uploads/2025/09/Course-a-pied_051.jpg
END:VEVENT
BEGIN:VEVENT
DTSTART;VALUE=DATE:20251027
DTEND;VALUE=DATE:20251103
DTSTAMP:20260422T165618
CREATED:20250916T110434Z
LAST-MODIFIED:20251102T235230Z
UID:48111-1761523200-1762127999@lincongrue.fr
SUMMARY:Vacances de L'Incongrue
DESCRIPTION:
URL:https://lincongrue.fr/event/vacances-de-lincongrue-3/
LOCATION:Salle de L’Incongrue\, 32 Grand Rue\, Gières\, 38610\, France
CATEGORIES:Evenement
ATTACH;FMTTYPE=image/jpeg:https://lincongrue.fr/wp-content/uploads/2025/09/Vacances-Toussaint-2025.jpg
END:VEVENT
END:VCALENDAR