BEGIN:VCALENDAR
VERSION:2.0
PRODID:-//L&#039;incongrue - ECPv6.15.20//NONSGML v1.0//EN
CALSCALE:GREGORIAN
METHOD:PUBLISH
X-WR-CALNAME:L&#039;incongrue
X-ORIGINAL-URL:https://lincongrue.fr
X-WR-CALDESC:Évènements pour L&#039;incongrue
REFRESH-INTERVAL;VALUE=DURATION:PT1H
X-Robots-Tag:noindex
X-PUBLISHED-TTL:PT1H
BEGIN:VTIMEZONE
TZID:Europe/Paris
BEGIN:DAYLIGHT
TZOFFSETFROM:+0100
TZOFFSETTO:+0200
TZNAME:CEST
DTSTART:20240331T010000
END:DAYLIGHT
BEGIN:STANDARD
TZOFFSETFROM:+0200
TZOFFSETTO:+0100
TZNAME:CET
DTSTART:20241027T010000
END:STANDARD
BEGIN:DAYLIGHT
TZOFFSETFROM:+0100
TZOFFSETTO:+0200
TZNAME:CEST
DTSTART:20250330T010000
END:DAYLIGHT
BEGIN:STANDARD
TZOFFSETFROM:+0200
TZOFFSETTO:+0100
TZNAME:CET
DTSTART:20251026T010000
END:STANDARD
BEGIN:DAYLIGHT
TZOFFSETFROM:+0100
TZOFFSETTO:+0200
TZNAME:CEST
DTSTART:20260329T010000
END:DAYLIGHT
BEGIN:STANDARD
TZOFFSETFROM:+0200
TZOFFSETTO:+0100
TZNAME:CET
DTSTART:20261025T010000
END:STANDARD
END:VTIMEZONE
BEGIN:VTIMEZONE
TZID:Europe/Stockholm
BEGIN:DAYLIGHT
TZOFFSETFROM:+0100
TZOFFSETTO:+0200
TZNAME:CEST
DTSTART:20240331T010000
END:DAYLIGHT
BEGIN:STANDARD
TZOFFSETFROM:+0200
TZOFFSETTO:+0100
TZNAME:CET
DTSTART:20241027T010000
END:STANDARD
BEGIN:DAYLIGHT
TZOFFSETFROM:+0100
TZOFFSETTO:+0200
TZNAME:CEST
DTSTART:20250330T010000
END:DAYLIGHT
BEGIN:STANDARD
TZOFFSETFROM:+0200
TZOFFSETTO:+0100
TZNAME:CET
DTSTART:20251026T010000
END:STANDARD
BEGIN:DAYLIGHT
TZOFFSETFROM:+0100
TZOFFSETTO:+0200
TZNAME:CEST
DTSTART:20260329T010000
END:DAYLIGHT
BEGIN:STANDARD
TZOFFSETFROM:+0200
TZOFFSETTO:+0100
TZNAME:CET
DTSTART:20261025T010000
END:STANDARD
END:VTIMEZONE
BEGIN:VEVENT
DTSTART;TZID=Europe/Paris:20250505T193000
DTEND;TZID=Europe/Paris:20250505T210000
DTSTAMP:20260421T114916
CREATED:20250408T074706Z
LAST-MODIFIED:20250505T185427Z
UID:39741-1746473400-1746478800@lincongrue.fr
SUMMARY:Partage autour l'Estime de Soi
DESCRIPTION:Un atelier pour aborder la question de l’estime de soi proposé par Kenji à partir de son expérience personnelle et en vu de vivre un moment de partage autour de ce thème\,\nvoici sa proposition plus en détail:\n« J’ai longtemps pensé que mon estime de moi était basée sur mes performances\, sur mon physique et définie par le jugement des autres. Alors\, je laissais les autres me juger sur cette base là\, je me jugeais et je jugeais les autres sur cela aussi. Puis il y a quatre ans lors d’un grand choc émotionnel\, j’ai réalisé que baser mon estime de moi sur des aspects que je ne peux contrôler\, m’apporte de la souffrance. C’est vrai\, mes performances varient\, mon physique évolue\, le jugement des autres est hors de mon contrôle. Sur quoi donc puis-je m’appuyer? Qu’est-ce que je peux maîtriser ?\nQuelle est ma réelle valeur qui reste et sur laquelle je peux me baser? Quelle est la valeur des autres personnes autour de moi?\nPassionné par le sujet\, j’entreprends un voyage pour mieux comprendre comment répondre à ces questions.\nDiplômé d’une licence en philosophie aujourd’hui\, je souhaite partager ce que j’ai appris comme morceaux du puzzle et créer à travers cet atelier un espace de réflexion collaboratif pour créer une image de puzzle dynamique ensemble sur l’estime de soi.\nJ’aimerai partager avec vous ce que j’ai appris comme perspectives et outils dans ce processus de découverte de mon estime de moi\, pour peut-être faire raisonner quelque chose de fort en vous\, comme ça a été le cas pour moi.\nPassionné également par la psychologie et la psychanalyse\, je partagerai avec vous des exercices pratiques de régulation des émotions et d’écriture introspectives liées à l’estime de soi\, qui peut-être vous seront bénéfiques aussi.\nAvec la plus grande bienveillance\, »\nKenji\nUn atelier pour 8 personnes\, à prix libre !
URL:https://lincongrue.fr/event/partage-autour-lestime-de-soi/
LOCATION:Salle de L’Incongrue\, 32 Grand Rue\, Gières\, 38610\, France
CATEGORIES:Activités
ATTACH;FMTTYPE=image/jpeg:https://lincongrue.fr/wp-content/uploads/2025/04/LIncongrue-discussion-autour-de-lestim-de-soi.jpg
END:VEVENT
BEGIN:VEVENT
DTSTART;TZID=Europe/Paris:20250506T173000
DTEND;TZID=Europe/Paris:20250506T183000
DTSTAMP:20260421T114916
CREATED:20250414T122924Z
LAST-MODIFIED:20250506T162455Z
UID:40915-1746552600-1746556200@lincongrue.fr
SUMMARY:Faire l'Album photo de l'Incongrue
DESCRIPTION:
URL:https://lincongrue.fr/event/faire-lalbum-photo-de-lincongrue/
LOCATION:Salle de L’Incongrue\, 32 Grand Rue\, Gières\, 38610\, France
CATEGORIES:Activités
ATTACH;FMTTYPE=image/jpeg:https://lincongrue.fr/wp-content/uploads/2025/04/Faire-Album-Photo-Incongrue_05_25.jpg
END:VEVENT
BEGIN:VEVENT
DTSTART;TZID=Europe/Paris:20250506T190000
DTEND;TZID=Europe/Paris:20250506T220000
DTSTAMP:20260421T114916
CREATED:20250326T175955Z
LAST-MODIFIED:20250506T192435Z
UID:36549-1746558000-1746568800@lincongrue.fr
SUMMARY:Soirée Coinche
DESCRIPTION:
URL:https://lincongrue.fr/event/soiree-coinche-29/
LOCATION:Salle de L’Incongrue\, 32 Grand Rue\, Gières\, 38610\, France
CATEGORIES:Activités
ATTACH;FMTTYPE=image/jpeg:https://lincongrue.fr/wp-content/uploads/2025/03/Soiree-Coinche_Mardi2.jpg
END:VEVENT
BEGIN:VEVENT
DTSTART;TZID=Europe/Paris:20250507T183000
DTEND;TZID=Europe/Paris:20250507T191500
DTSTAMP:20260421T114916
CREATED:20250414T124105Z
LAST-MODIFIED:20250507T170732Z
UID:40842-1746642600-1746645300@lincongrue.fr
SUMMARY:Courses à pied
DESCRIPTION:
URL:https://lincongrue.fr/event/courses-a-pied/
LOCATION:salle des Fêtes\, 18 rue des martinets\, Gières\, 38610\, France
CATEGORIES:Activités
ATTACH;FMTTYPE=image/jpeg:https://lincongrue.fr/wp-content/uploads/2025/04/Course-a-pied_05.jpg
END:VEVENT
BEGIN:VEVENT
DTSTART;TZID=Europe/Stockholm:20250512T183000
DTEND;TZID=Europe/Stockholm:20250512T200000
DTSTAMP:20260421T114916
CREATED:20250321T074905Z
LAST-MODIFIED:20250512T175302Z
UID:36839-1747074600-1747080000@lincongrue.fr
SUMMARY:Cycle Echecs - Approfondissement
DESCRIPTION:L’objectif est de découvrir les combinaisons tactiques de base (fourchette\, échecs doubles\, découvertes\, Rayons-X\,…) de les identifier en attaque et en défense.\nLors de ces séances\, on expliquer le thème et on fait des exercices progressifs interactifs. A l’issue de la séance chacun devrait pouvoir reconnaitre les coups tactiques contenu dans la position.\nA la fin de la séance on fera des parties libres en essayant de placer les combinaisons apprises.\nUn atelier pour 8 participants max\nNiveau requis: savoir déplacer les pièces\, avoir intégré les valeurs relatives des pièces ( Pion=1 < Cavalier = Fou = 3\,5 < Tour=5  < Dame= 9 < Roi)
URL:https://lincongrue.fr/event/cycle-echecs-approfondissement-2/
LOCATION:Salle de L’Incongrue\, 32 Grand Rue\, Gières\, 38610\, France
CATEGORIES:Activités
ATTACH;FMTTYPE=image/jpeg:https://lincongrue.fr/wp-content/uploads/2025/02/Soiree-Echecs_01_25.jpg
END:VEVENT
BEGIN:VEVENT
DTSTART;TZID=Europe/Paris:20250513T173000
DTEND;TZID=Europe/Paris:20250513T183000
DTSTAMP:20260421T114916
CREATED:20250414T124907Z
LAST-MODIFIED:20250513T161200Z
UID:41091-1747157400-1747161000@lincongrue.fr
SUMMARY:Faire l'Album photo de l'Incongrue
DESCRIPTION:Un moment pour regarder les photos\, les mettre en forme dans un album et consigner quelque part ces souvenirs partagés.\nUn album par année et collaboratif ou chacun peut ajouter « sa pâte ».\nPassez quand vous voulez et contribuez quand vous le souhaitez !
URL:https://lincongrue.fr/event/faire-lalbum-photo-de-lincongrue-2/
LOCATION:Salle de L’Incongrue\, 32 Grand Rue\, Gières\, 38610\, France
CATEGORIES:Activités
ATTACH;FMTTYPE=image/jpeg:https://lincongrue.fr/wp-content/uploads/2025/04/Faire-Album-Photo-Incongrue_05_25.jpg
END:VEVENT
BEGIN:VEVENT
DTSTART;TZID=Europe/Paris:20250513T194500
DTEND;TZID=Europe/Paris:20250513T220000
DTSTAMP:20260421T114916
CREATED:20250414T125133Z
LAST-MODIFIED:20250513T193939Z
UID:41100-1747165500-1747173600@lincongrue.fr
SUMMARY:Soirée Jeux
DESCRIPTION:
URL:https://lincongrue.fr/event/soiree-jeux-20/
LOCATION:Salle de L’Incongrue\, 32 Grand Rue\, Gières\, 38610\, France
CATEGORIES:Activités
ATTACH;FMTTYPE=image/jpeg:https://lincongrue.fr/wp-content/uploads/2025/04/Soiree-Jeux-de-societe_10_231.jpg
END:VEVENT
BEGIN:VEVENT
DTSTART;TZID=Europe/Paris:20250514T183000
DTEND;TZID=Europe/Paris:20250514T191500
DTSTAMP:20260421T114916
CREATED:20250414T125350Z
LAST-MODIFIED:20250514T165323Z
UID:40843-1747247400-1747250100@lincongrue.fr
SUMMARY:Courses à pied
DESCRIPTION:
URL:https://lincongrue.fr/event/courses-a-pied-2/
LOCATION:salle des Fêtes\, 18 rue des martinets\, Gières\, 38610\, France
CATEGORIES:Activités
ATTACH;FMTTYPE=image/jpeg:https://lincongrue.fr/wp-content/uploads/2025/04/Course-a-pied_05.jpg
END:VEVENT
BEGIN:VEVENT
DTSTART;TZID=Europe/Paris:20250515T160000
DTEND;TZID=Europe/Paris:20250515T170000
DTSTAMP:20260421T114916
CREATED:20250409T151750Z
LAST-MODIFIED:20250515T145312Z
UID:39885-1747324800-1747328400@lincongrue.fr
SUMMARY:aide au numérique (ordi/tablette/smartphone)
DESCRIPTION:Aide à l’utilisation des appareils numériques et aux démarches en ligne.
URL:https://lincongrue.fr/event/aide-au-numerique-ordi-tablette-smartphone-19/
LOCATION:Salle de L’Incongrue\, 32 Grand Rue\, Gières\, 38610\, France
CATEGORIES:Activités
ATTACH;FMTTYPE=image/jpeg:https://lincongrue.fr/wp-content/uploads/2024/11/Atelier-aide-numerique_242.jpg
END:VEVENT
BEGIN:VEVENT
DTSTART;TZID=Europe/Paris:20250515T170000
DTEND;TZID=Europe/Paris:20250515T183000
DTSTAMP:20260421T114916
CREATED:20250414T124333Z
LAST-MODIFIED:20250515T160731Z
UID:39429-1747328400-1747333800@lincongrue.fr
SUMMARY:Ecriture
DESCRIPTION:
URL:https://lincongrue.fr/event/ecriture-12/
LOCATION:Salle de L’Incongrue\, 32 Grand Rue\, Gières\, 38610\, France
CATEGORIES:Activités
ATTACH;FMTTYPE=image/jpeg:https://lincongrue.fr/wp-content/uploads/2025/04/Atelier-ecriture_05_25.jpg
END:VEVENT
BEGIN:VEVENT
DTSTART;TZID=Europe/Paris:20250515T183000
DTEND;TZID=Europe/Paris:20250515T203000
DTSTAMP:20260421T114916
CREATED:20250415T073602Z
LAST-MODIFIED:20250515T180733Z
UID:41196-1747333800-1747341000@lincongrue.fr
SUMMARY:Discussion autour d'un livre
DESCRIPTION:
URL:https://lincongrue.fr/event/discussion-autour-dun-livre-9/
LOCATION:Salle de L’Incongrue\, 32 Grand Rue\, Gières\, 38610\, France
CATEGORIES:Activités
ATTACH;FMTTYPE=image/jpeg:https://lincongrue.fr/wp-content/uploads/2025/04/LIncongrue-discussion-autour-dun-livre_12_244.jpg
END:VEVENT
BEGIN:VEVENT
DTSTART;TZID=Europe/Paris:20250516T173000
DTEND;TZID=Europe/Paris:20250516T181500
DTSTAMP:20260421T114916
CREATED:20250414T125724Z
LAST-MODIFIED:20250516T160808Z
UID:41092-1747416600-1747419300@lincongrue.fr
SUMMARY:Apéro démontage parents enfants
DESCRIPTION:Venez en famille (tout âge) jouer les curieux\, décortiquer des objets du quotidien comme des ordinateurs\, des téléphones ou lecteurs DVD. (matériel fourni)\nAccompagné par Mathieu et Jean
URL:https://lincongrue.fr/event/apero-demontage-parents-enfants-2/
CATEGORIES:Activités
ATTACH;FMTTYPE=image/jpeg:https://lincongrue.fr/wp-content/uploads/2025/04/Copie-de-Apero-Demontage_04.jpg
END:VEVENT
BEGIN:VEVENT
DTSTART;TZID=Europe/Paris:20250516T183000
DTEND;TZID=Europe/Paris:20250516T210000
DTSTAMP:20260421T114916
CREATED:20250414T125925Z
LAST-MODIFIED:20250516T183740Z
UID:41093-1747420200-1747429200@lincongrue.fr
SUMMARY:Réparons Ensemble !
DESCRIPTION:Un objet\, un vélo à réparer ?\nVenez et réparons le ensemble. Nos bénévoles bricolos sont plein de talents et de bons conseils pour vous aider à faire par vous même\, comme ça la prochaine fois vous saurez le faire ; ) !\nAtelier à prix Libre !\nA très vite alors
URL:https://lincongrue.fr/event/reparons-ensemble-16/
LOCATION:Salle de L’Incongrue\, 32 Grand Rue\, Gières\, 38610\, France
CATEGORIES:Activités
ATTACH;FMTTYPE=image/jpeg:https://lincongrue.fr/wp-content/uploads/2025/04/Affiche-Reparation-Salle-Incongrue_05_25.jpg
END:VEVENT
BEGIN:VEVENT
DTSTART;TZID=Europe/Paris:20250520T170000
DTEND;TZID=Europe/Paris:20250520T190000
DTSTAMP:20260421T114916
CREATED:20250414T130517Z
LAST-MODIFIED:20250520T165235Z
UID:39912-1747760400-1747767600@lincongrue.fr
SUMMARY:Fabrication Boite à Livre
DESCRIPTION:Venez participer à la fabrication des boites à livre qui vont se disséminer dans la ville.\nC’est une bonne occasion d’apprendre aussi à bricoler.
URL:https://lincongrue.fr/event/fabrication-boite-a-livre/
LOCATION:Salle de L’Incongrue\, 32 Grand Rue\, Gières\, 38610\, France
CATEGORIES:Activités
END:VEVENT
BEGIN:VEVENT
DTSTART;TZID=Europe/Paris:20250520T173000
DTEND;TZID=Europe/Paris:20250520T183000
DTSTAMP:20260421T114916
CREATED:20250414T130713Z
LAST-MODIFIED:20250520T162231Z
UID:41094-1747762200-1747765800@lincongrue.fr
SUMMARY:Faire l'Album photo de l'Incongrue
DESCRIPTION:
URL:https://lincongrue.fr/event/faire-lalbum-photo-de-lincongrue-3/
LOCATION:Salle de L’Incongrue\, 32 Grand Rue\, Gières\, 38610\, France
CATEGORIES:Activités
ATTACH;FMTTYPE=image/jpeg:https://lincongrue.fr/wp-content/uploads/2025/04/Faire-Album-Photo-Incongrue_05_25.jpg
END:VEVENT
BEGIN:VEVENT
DTSTART;TZID=Europe/Stockholm:20250520T193000
DTEND;TZID=Europe/Stockholm:20250520T220000
DTSTAMP:20260421T114916
CREATED:20250414T132059Z
LAST-MODIFIED:20250520T192427Z
UID:41115-1747769400-1747778400@lincongrue.fr
SUMMARY:Blind test Zik + trombonne
DESCRIPTION:Un blind test musical et vivant Avec flip Flap edition de jeux de société.\nCécile femme au trombonne organise de blind test tout en jouant du trombonne\, une curiosité et une proposition unique et exceptionnelle !\nVenez\, et c’est à prix libre !!
URL:https://lincongrue.fr/event/blind-test-zik-trombonne/
LOCATION:Salle de L’Incongrue\, 32 Grand Rue\, Gières\, 38610\, France
CATEGORIES:Evenement
ATTACH;FMTTYPE=image/jpeg:https://lincongrue.fr/wp-content/uploads/2025/04/BLind-Test_04_253.jpg
END:VEVENT
BEGIN:VEVENT
DTSTART;TZID=Europe/Paris:20250521T100000
DTEND;TZID=Europe/Paris:20250521T100000
DTSTAMP:20260421T114916
CREATED:20250408T081727Z
LAST-MODIFIED:20250521T075529Z
UID:40145-1747821600-1747821600@lincongrue.fr
SUMMARY:Faire son marché en Fauteuil
DESCRIPTION:Venez tester de faire votre marché en fauteuil !\nL’APF sera présente pour vous prêter des fauteuils et vous guider dans cette démarche.\nUne expérience intéressante.
URL:https://lincongrue.fr/event/faire-son-marche-en-fauteuil/
LOCATION:Marché\, 15 Rue Victor Hugo\, Gières\, 38610\, France
CATEGORIES:Activités
ATTACH;FMTTYPE=image/jpeg:https://lincongrue.fr/wp-content/uploads/2025/04/Faire-son-marche-en-fauteuil_05_25-1.jpg
END:VEVENT
BEGIN:VEVENT
DTSTART;TZID=Europe/Paris:20250521T183000
DTEND;TZID=Europe/Paris:20250521T191500
DTSTAMP:20260421T114916
CREATED:20250414T132232Z
LAST-MODIFIED:20250521T171308Z
UID:40844-1747852200-1747854900@lincongrue.fr
SUMMARY:Courses à pied
DESCRIPTION:
URL:https://lincongrue.fr/event/courses-a-pied-3/
LOCATION:salle des Fêtes\, 18 rue des martinets\, Gières\, 38610\, France
CATEGORIES:Activités
ATTACH;FMTTYPE=image/jpeg:https://lincongrue.fr/wp-content/uploads/2025/04/Course-a-pied_05.jpg
END:VEVENT
BEGIN:VEVENT
DTSTART;TZID=Europe/Paris:20250522T160000
DTEND;TZID=Europe/Paris:20250522T170000
DTSTAMP:20260421T114916
CREATED:20250409T152124Z
LAST-MODIFIED:20250522T144644Z
UID:39886-1747929600-1747933200@lincongrue.fr
SUMMARY:aide au numérique (ordi/tablette/smartphone)
DESCRIPTION:Aide à l’utilisation des appareils numériques et aux démarches en ligne.
URL:https://lincongrue.fr/event/aide-au-numerique-ordi-tablette-smartphone-20/
LOCATION:Salle de L’Incongrue\, 32 Grand Rue\, Gières\, 38610\, France
CATEGORIES:Activités
ATTACH;FMTTYPE=image/jpeg:https://lincongrue.fr/wp-content/uploads/2024/11/Atelier-aide-numerique_242.jpg
END:VEVENT
BEGIN:VEVENT
DTSTART;TZID=Europe/Paris:20250522T180000
DTEND;TZID=Europe/Paris:20250522T220000
DTSTAMP:20260421T114916
CREATED:20250414T133145Z
LAST-MODIFIED:20250522T192302Z
UID:39681-1747936800-1747951200@lincongrue.fr
SUMMARY:Soirée Pizza Low Tech
DESCRIPTION:
URL:https://lincongrue.fr/event/soiree-pizza-low-tech/
LOCATION:Salle de L’Incongrue\, 32 Grand Rue\, Gières\, 38610\, France
CATEGORIES:Evenement
ATTACH;FMTTYPE=image/jpeg:https://lincongrue.fr/wp-content/uploads/2025/04/Soiree-Pizza-Low-Tech-1.jpg
END:VEVENT
BEGIN:VEVENT
DTSTART;TZID=Europe/Paris:20250523T180000
DTEND;TZID=Europe/Paris:20250523T220000
DTSTAMP:20260421T114916
CREATED:20250408T091505Z
LAST-MODIFIED:20250523T194247Z
UID:40193-1748023200-1748037600@lincongrue.fr
SUMMARY:Café Signes
DESCRIPTION:Un café signes\, c’est un moment pour rencontrer des personnes qui parlent la langue des signes\, parfois sourdes ou malentendantes mais pas seulement. C’est une occasion d’accéder à la culture de cette langue si riche. Un moment à partager un peu différent de d’habitude. Comment commande-t-on une bière\, une limonade en LSF? Vous le saurez bientôt 😉 !
URL:https://lincongrue.fr/event/cafe-signes/
LOCATION:Cour de l’incongrue
CATEGORIES:Evenement
ATTACH;FMTTYPE=image/jpeg:https://lincongrue.fr/wp-content/uploads/2025/04/WhatsApp-Image-2025-03-31-at-08.05.57.jpeg
END:VEVENT
BEGIN:VEVENT
DTSTART;TZID=Europe/Paris:20250526T090000
DTEND;TZID=Europe/Paris:20250526T140000
DTSTAMP:20260421T114916
CREATED:20250520T082135Z
LAST-MODIFIED:20250526T113736Z
UID:42628-1748250000-1748268000@lincongrue.fr
SUMMARY:Incongrue Fermée Exceptionnellemnt le matin !
DESCRIPTION:
URL:https://lincongrue.fr/event/incongrue-fermee-exceptionnellemnt-le-matin/
LOCATION:Salle de L’Incongrue\, 32 Grand Rue\, Gières\, 38610\, France
CATEGORIES:Evenement
ATTACH;FMTTYPE=image/jpeg:https://lincongrue.fr/wp-content/uploads/2025/05/images-femeture.jpg
END:VEVENT
BEGIN:VEVENT
DTSTART;TZID=Europe/Paris:20250527T170000
DTEND;TZID=Europe/Paris:20250527T190000
DTSTAMP:20260421T114916
CREATED:20250414T133253Z
LAST-MODIFIED:20250527T165447Z
UID:39913-1748365200-1748372400@lincongrue.fr
SUMMARY:Fabrication boite à Livres
DESCRIPTION:
URL:https://lincongrue.fr/event/fabrication-boite-a-livres-2/
LOCATION:Salle de L’Incongrue\, 32 Grand Rue\, Gières\, 38610\, France
CATEGORIES:Activités
ATTACH;FMTTYPE=image/jpeg:https://lincongrue.fr/wp-content/uploads/2025/04/Fabrication-Boite-a-Livre_05_24.jpg
END:VEVENT
BEGIN:VEVENT
DTSTART;TZID=Europe/Paris:20250527T173000
DTEND;TZID=Europe/Paris:20250527T183000
DTSTAMP:20260421T114916
CREATED:20250414T133330Z
LAST-MODIFIED:20250527T162139Z
UID:41097-1748367000-1748370600@lincongrue.fr
SUMMARY:Faire l'Album photo de l'Incongrue
DESCRIPTION:Un moment pour regarder les photos\, les mettre en forme dans un album et consigner quelque part ces souvenirs partagés.\nUn album par année et collaboratif ou chacun peut ajouter « sa pâte ».\nPassez quand vous voulez et contribuez quand vous le souhaitez !
URL:https://lincongrue.fr/event/faire-lalbum-photo-de-lincongrue-4/
LOCATION:Salle de L’Incongrue\, 32 Grand Rue\, Gières\, 38610\, France
CATEGORIES:Activités
ATTACH;FMTTYPE=image/jpeg:https://lincongrue.fr/wp-content/uploads/2025/04/Faire-Album-Photo-Incongrue_05_25.jpg
END:VEVENT
BEGIN:VEVENT
DTSTART;TZID=Europe/Paris:20250528T093000
DTEND;TZID=Europe/Paris:20250528T113000
DTSTAMP:20260421T114916
CREATED:20250408T162525Z
LAST-MODIFIED:20250528T091247Z
UID:38364-1748424600-1748431800@lincongrue.fr
SUMMARY:Réparation Vélo au marché
DESCRIPTION:
URL:https://lincongrue.fr/event/atelier-de-reparation-velo/
LOCATION:Olympes de Gouges
CATEGORIES:Activités
ATTACH;FMTTYPE=image/jpeg:https://lincongrue.fr/wp-content/uploads/2025/04/Copie-de-Co-Reparation-Velo-.jpg
END:VEVENT
BEGIN:VEVENT
DTSTART;TZID=Europe/Paris:20250528T140000
DTEND;TZID=Europe/Paris:20250528T170000
DTSTAMP:20260421T114916
CREATED:20250414T133610Z
LAST-MODIFIED:20250528T144024Z
UID:39620-1748440800-1748451600@lincongrue.fr
SUMMARY:Sortie Nature avec CCAS
DESCRIPTION:Un moment nature à partager !\nOn se retrouve au parc Charly Guibbaud pour un départ pour l’arboretum afin d’y découvrir les arbres et oiseaux qui le peuplent !\nNous serons guidés par des pros 😉\nPuis retour au parc et gouter partagé sur place.\nQu’en dites-vous? C’est organisé par L’Incongrue avec le CCAS de la ville de Gières\, venez nombreux pour ce moment nature sympa !
URL:https://lincongrue.fr/event/sortie-nature-avec-ccas/
LOCATION:parc Charly Guibbaud\, 15 Rue Victor Hugo\, Gières\, 38610\, France
CATEGORIES:Activités
ATTACH;FMTTYPE=image/jpeg:https://lincongrue.fr/wp-content/uploads/2025/04/Sortie-Nature_06_25.jpg
END:VEVENT
BEGIN:VEVENT
DTSTART;TZID=Europe/Paris:20250528T183000
DTEND;TZID=Europe/Paris:20250528T191500
DTSTAMP:20260421T114916
CREATED:20250414T133410Z
LAST-MODIFIED:20250528T165608Z
UID:40845-1748457000-1748459700@lincongrue.fr
SUMMARY:Courses à pied
DESCRIPTION:
URL:https://lincongrue.fr/event/courses-a-pied-4/
LOCATION:salle des Fêtes\, 18 rue des martinets\, Gières\, 38610\, France
CATEGORIES:Activités
ATTACH;FMTTYPE=image/jpeg:https://lincongrue.fr/wp-content/uploads/2025/04/Course-a-pied_05.jpg
END:VEVENT
BEGIN:VEVENT
DTSTART;VALUE=DATE:20250529
DTEND;VALUE=DATE:20250601
DTSTAMP:20260421T114916
CREATED:20250515T072221Z
LAST-MODIFIED:20250531T230823Z
UID:39234-1748476800-1748735999@lincongrue.fr
SUMMARY:Fermeture
DESCRIPTION:
URL:https://lincongrue.fr/event/fermeture-3/
LOCATION:Salle de L’Incongrue\, 32 Grand Rue\, Gières\, 38610\, France
CATEGORIES:Evenement
ATTACH;FMTTYPE=image/jpeg:https://lincongrue.fr/wp-content/uploads/2025/05/Copie-de-LIncongrue-prend-des-vacances.jpg
END:VEVENT
END:VCALENDAR