BEGIN:VCALENDAR
VERSION:2.0
PRODID:-//L&#039;incongrue - ECPv6.15.20//NONSGML v1.0//EN
CALSCALE:GREGORIAN
METHOD:PUBLISH
X-WR-CALNAME:L&#039;incongrue
X-ORIGINAL-URL:https://lincongrue.fr
X-WR-CALDESC:Évènements pour L&#039;incongrue
REFRESH-INTERVAL;VALUE=DURATION:PT1H
X-Robots-Tag:noindex
X-PUBLISHED-TTL:PT1H
BEGIN:VTIMEZONE
TZID:Europe/Paris
BEGIN:DAYLIGHT
TZOFFSETFROM:+0100
TZOFFSETTO:+0200
TZNAME:CEST
DTSTART:20250330T010000
END:DAYLIGHT
BEGIN:STANDARD
TZOFFSETFROM:+0200
TZOFFSETTO:+0100
TZNAME:CET
DTSTART:20251026T010000
END:STANDARD
BEGIN:DAYLIGHT
TZOFFSETFROM:+0100
TZOFFSETTO:+0200
TZNAME:CEST
DTSTART:20260329T010000
END:DAYLIGHT
BEGIN:STANDARD
TZOFFSETFROM:+0200
TZOFFSETTO:+0100
TZNAME:CET
DTSTART:20261025T010000
END:STANDARD
BEGIN:DAYLIGHT
TZOFFSETFROM:+0100
TZOFFSETTO:+0200
TZNAME:CEST
DTSTART:20270328T010000
END:DAYLIGHT
BEGIN:STANDARD
TZOFFSETFROM:+0200
TZOFFSETTO:+0100
TZNAME:CET
DTSTART:20271031T010000
END:STANDARD
END:VTIMEZONE
BEGIN:VEVENT
DTSTART;TZID=Europe/Paris:20260422T073000
DTEND;TZID=Europe/Paris:20260422T120000
DTSTAMP:20260422T025715
CREATED:20260327T090626Z
LAST-MODIFIED:20260417T202332Z
UID:58330-1776843000-1776859200@lincongrue.fr
SUMMARY:L'Incongrue au Marché
DESCRIPTION:
URL:https://lincongrue.fr/event/lincongrue-au-marche/
LOCATION:Marché\, 15 Rue Victor Hugo\, Gières\, 38610\, France
CATEGORIES:Activités
ATTACH;FMTTYPE=image/jpeg:https://lincongrue.fr/wp-content/uploads/2026/03/20251119_105519.jpg
END:VEVENT
BEGIN:VEVENT
DTSTART;TZID=Europe/Paris:20260422T160000
DTEND;TZID=Europe/Paris:20260422T180000
DTSTAMP:20260422T025715
CREATED:20260327T090929Z
LAST-MODIFIED:20260417T202332Z
UID:58331-1776873600-1776880800@lincongrue.fr
SUMMARY:Au Pumptrack
DESCRIPTION:
URL:https://lincongrue.fr/event/au-pumptrack/
LOCATION:Pump track\, plaine des sports\, Gières
CATEGORIES:Activités
ATTACH;FMTTYPE=image/jpeg:https://lincongrue.fr/wp-content/uploads/2026/03/1de956dc-ce21-4d25-beda-695b0ae849f6.jpeg
END:VEVENT
END:VCALENDAR