BEGIN:VCALENDAR
VERSION:2.0
PRODID:-//L&#039;incongrue - ECPv6.15.20//NONSGML v1.0//EN
CALSCALE:GREGORIAN
METHOD:PUBLISH
X-ORIGINAL-URL:https://lincongrue.fr
X-WR-CALDESC:Évènements pour L&#039;incongrue
REFRESH-INTERVAL;VALUE=DURATION:PT1H
X-Robots-Tag:noindex
X-PUBLISHED-TTL:PT1H
BEGIN:VTIMEZONE
TZID:Europe/Paris
BEGIN:DAYLIGHT
TZOFFSETFROM:+0100
TZOFFSETTO:+0200
TZNAME:CEST
DTSTART:20250330T010000
END:DAYLIGHT
BEGIN:STANDARD
TZOFFSETFROM:+0200
TZOFFSETTO:+0100
TZNAME:CET
DTSTART:20251026T010000
END:STANDARD
BEGIN:DAYLIGHT
TZOFFSETFROM:+0100
TZOFFSETTO:+0200
TZNAME:CEST
DTSTART:20260329T010000
END:DAYLIGHT
BEGIN:STANDARD
TZOFFSETFROM:+0200
TZOFFSETTO:+0100
TZNAME:CET
DTSTART:20261025T010000
END:STANDARD
BEGIN:DAYLIGHT
TZOFFSETFROM:+0100
TZOFFSETTO:+0200
TZNAME:CEST
DTSTART:20270328T010000
END:DAYLIGHT
BEGIN:STANDARD
TZOFFSETFROM:+0200
TZOFFSETTO:+0100
TZNAME:CET
DTSTART:20271031T010000
END:STANDARD
END:VTIMEZONE
BEGIN:VEVENT
DTSTART;TZID=Europe/Paris:20260321T090000
DTEND;TZID=Europe/Paris:20260321T120000
DTSTAMP:20260423T125303
CREATED:20260226T144740Z
LAST-MODIFIED:20260320T123205Z
UID:56280-1774083600-1774094400@lincongrue.fr
SUMMARY:reconnaitre le chant des oiseaux !
DESCRIPTION:Apporte tes jumelles si t’en as et tes oreilles.
URL:https://lincongrue.fr/event/reconnaitre-le-chant-des-oiseaux/
LOCATION:Dans la nature autour
CATEGORIES:Activités
ATTACH;FMTTYPE=image/jpeg:https://lincongrue.fr/wp-content/uploads/2026/02/Identifier-oiseaux_045.jpg
END:VEVENT
BEGIN:VEVENT
DTSTART;TZID=Europe/Paris:20260321T093000
DTEND;TZID=Europe/Paris:20260321T103000
DTSTAMP:20260423T125303
CREATED:20260226T083907Z
LAST-MODIFIED:20260319T015237Z
UID:56570-1774085400-1774089000@lincongrue.fr
SUMMARY:Course à pied
DESCRIPTION:Rendez=vous à la salle des fêtes
URL:https://lincongrue.fr/event/course-a-pied-32/
LOCATION:salle des Fêtes\, 18 rue des martinets\, Gières\, 38610\, France
CATEGORIES:Activités
END:VEVENT
END:VCALENDAR