BEGIN:VCALENDAR
VERSION:2.0
PRODID:-//L&#039;incongrue - ECPv6.15.20//NONSGML v1.0//EN
CALSCALE:GREGORIAN
METHOD:PUBLISH
X-WR-CALNAME:L&#039;incongrue
X-ORIGINAL-URL:https://lincongrue.fr
X-WR-CALDESC:Évènements pour L&#039;incongrue
REFRESH-INTERVAL;VALUE=DURATION:PT1H
X-Robots-Tag:noindex
X-PUBLISHED-TTL:PT1H
BEGIN:VTIMEZONE
TZID:Europe/Paris
BEGIN:DAYLIGHT
TZOFFSETFROM:+0100
TZOFFSETTO:+0200
TZNAME:CEST
DTSTART:20250330T010000
END:DAYLIGHT
BEGIN:STANDARD
TZOFFSETFROM:+0200
TZOFFSETTO:+0100
TZNAME:CET
DTSTART:20251026T010000
END:STANDARD
BEGIN:DAYLIGHT
TZOFFSETFROM:+0100
TZOFFSETTO:+0200
TZNAME:CEST
DTSTART:20260329T010000
END:DAYLIGHT
BEGIN:STANDARD
TZOFFSETFROM:+0200
TZOFFSETTO:+0100
TZNAME:CET
DTSTART:20261025T010000
END:STANDARD
BEGIN:DAYLIGHT
TZOFFSETFROM:+0100
TZOFFSETTO:+0200
TZNAME:CEST
DTSTART:20270328T010000
END:DAYLIGHT
BEGIN:STANDARD
TZOFFSETFROM:+0200
TZOFFSETTO:+0100
TZNAME:CET
DTSTART:20271031T010000
END:STANDARD
END:VTIMEZONE
BEGIN:VEVENT
DTSTART;TZID=Europe/Paris:20260226T160000
DTEND;TZID=Europe/Paris:20260226T170000
DTSTAMP:20260423T010233
CREATED:20260128T092027Z
LAST-MODIFIED:20260226T155228Z
UID:55799-1772121600-1772125200@lincongrue.fr
SUMMARY:Aide au numérique
DESCRIPTION:Vous avez une question liée au numérique\, une démarche compliquée\, un truc que vous en comprenez pas avec votre téléphone ou votre ordinateur\, Robin est là pour vous aider!
URL:https://lincongrue.fr/event/aide-au-numerique-15/
LOCATION:Salle de L’Incongrue\, 32 Grand Rue\, Gières\, 38610\, France
CATEGORIES:Activités
ATTACH;FMTTYPE=image/jpeg:https://lincongrue.fr/wp-content/uploads/2024/11/Atelier-aide-numerique_242.jpg
END:VEVENT
BEGIN:VEVENT
DTSTART;TZID=Europe/Paris:20260226T190000
DTEND;TZID=Europe/Paris:20260226T210000
DTSTAMP:20260423T010233
CREATED:20260128T091951Z
LAST-MODIFIED:20260226T193735Z
UID:55808-1772132400-1772139600@lincongrue.fr
SUMMARY:Discussion autour d'un livre
DESCRIPTION:Pour cette séance\, le choix du livre est:\n« Pays infini » de Patricia ENGEL
URL:https://lincongrue.fr/event/discussion-autour-dun-livre-15/
CATEGORIES:Activités
ATTACH;FMTTYPE=image/jpeg:https://lincongrue.fr/wp-content/uploads/2026/01/LIncongrue-discussion-autour-dun-livre_12_241.jpg
END:VEVENT
END:VCALENDAR