BEGIN:VCALENDAR
VERSION:2.0
PRODID:-//L&#039;incongrue - ECPv6.15.20//NONSGML v1.0//EN
CALSCALE:GREGORIAN
METHOD:PUBLISH
X-WR-CALNAME:L&#039;incongrue
X-ORIGINAL-URL:https://lincongrue.fr
X-WR-CALDESC:Évènements pour L&#039;incongrue
REFRESH-INTERVAL;VALUE=DURATION:PT1H
X-Robots-Tag:noindex
X-PUBLISHED-TTL:PT1H
BEGIN:VTIMEZONE
TZID:Europe/Paris
BEGIN:DAYLIGHT
TZOFFSETFROM:+0100
TZOFFSETTO:+0200
TZNAME:CEST
DTSTART:20250330T010000
END:DAYLIGHT
BEGIN:STANDARD
TZOFFSETFROM:+0200
TZOFFSETTO:+0100
TZNAME:CET
DTSTART:20251026T010000
END:STANDARD
BEGIN:DAYLIGHT
TZOFFSETFROM:+0100
TZOFFSETTO:+0200
TZNAME:CEST
DTSTART:20260329T010000
END:DAYLIGHT
BEGIN:STANDARD
TZOFFSETFROM:+0200
TZOFFSETTO:+0100
TZNAME:CET
DTSTART:20261025T010000
END:STANDARD
BEGIN:DAYLIGHT
TZOFFSETFROM:+0100
TZOFFSETTO:+0200
TZNAME:CEST
DTSTART:20270328T010000
END:DAYLIGHT
BEGIN:STANDARD
TZOFFSETFROM:+0200
TZOFFSETTO:+0100
TZNAME:CET
DTSTART:20271031T010000
END:STANDARD
END:VTIMEZONE
BEGIN:VEVENT
DTSTART;TZID=Europe/Paris:20260224T173000
DTEND;TZID=Europe/Paris:20260224T190000
DTSTAMP:20260424T123648
CREATED:20260128T085608Z
LAST-MODIFIED:20260224T172230Z
UID:55560-1771954200-1771959600@lincongrue.fr
SUMMARY:Crochet
DESCRIPTION:
URL:https://lincongrue.fr/event/crochet-7/
LOCATION:Salle de L’Incongrue\, 32 Grand Rue\, Gières\, 38610\, France
CATEGORIES:Activités
ATTACH;FMTTYPE=image/jpeg:https://lincongrue.fr/wp-content/uploads/2026/01/Atelier-Crochet-Incongrue4.jpg
END:VEVENT
BEGIN:VEVENT
DTSTART;TZID=Europe/Paris:20260224T200000
DTEND;TZID=Europe/Paris:20260224T220000
DTSTAMP:20260424T123648
CREATED:20260128T090119Z
LAST-MODIFIED:20260224T205229Z
UID:55746-1771963200-1771970400@lincongrue.fr
SUMMARY:atelier fabrication de remorque
DESCRIPTION:
URL:https://lincongrue.fr/event/atelier-fabrication-de-remorque/
LOCATION:Cour de l’incongrue
CATEGORIES:Activités
ATTACH;FMTTYPE=image/jpeg:https://lincongrue.fr/wp-content/uploads/2026/01/Copie-de-Atelier-remorque_12_25.jpg
END:VEVENT
END:VCALENDAR