BEGIN:VCALENDAR
VERSION:2.0
PRODID:-//L&#039;incongrue - ECPv6.15.20//NONSGML v1.0//EN
CALSCALE:GREGORIAN
METHOD:PUBLISH
X-WR-CALNAME:L&#039;incongrue
X-ORIGINAL-URL:https://lincongrue.fr
X-WR-CALDESC:Évènements pour L&#039;incongrue
REFRESH-INTERVAL;VALUE=DURATION:PT1H
X-Robots-Tag:noindex
X-PUBLISHED-TTL:PT1H
BEGIN:VTIMEZONE
TZID:Europe/Paris
BEGIN:DAYLIGHT
TZOFFSETFROM:+0100
TZOFFSETTO:+0200
TZNAME:CEST
DTSTART:20250330T010000
END:DAYLIGHT
BEGIN:STANDARD
TZOFFSETFROM:+0200
TZOFFSETTO:+0100
TZNAME:CET
DTSTART:20251026T010000
END:STANDARD
BEGIN:DAYLIGHT
TZOFFSETFROM:+0100
TZOFFSETTO:+0200
TZNAME:CEST
DTSTART:20260329T010000
END:DAYLIGHT
BEGIN:STANDARD
TZOFFSETFROM:+0200
TZOFFSETTO:+0100
TZNAME:CET
DTSTART:20261025T010000
END:STANDARD
BEGIN:DAYLIGHT
TZOFFSETFROM:+0100
TZOFFSETTO:+0200
TZNAME:CEST
DTSTART:20270328T010000
END:DAYLIGHT
BEGIN:STANDARD
TZOFFSETFROM:+0200
TZOFFSETTO:+0100
TZNAME:CET
DTSTART:20271031T010000
END:STANDARD
END:VTIMEZONE
BEGIN:VEVENT
DTSTART;TZID=Europe/Paris:20260223T090000
DTEND;TZID=Europe/Paris:20260223T170000
DTSTAMP:20260424T140133
CREATED:20260128T085447Z
LAST-MODIFIED:20260223T155228Z
UID:55745-1771837200-1771866000@lincongrue.fr
SUMMARY:Atelier Couture Spécial Sac demi lune
DESCRIPTION:Une journée spéciale pour faire son sac demi-lune en couture.\nVenez avec votre tissu et vos fourniture. Isabelle vous guidera pour réaliser votre sac en une journée ou presque !\nInscrivez-vous !\nC’est à prix libre !
URL:https://lincongrue.fr/event/atelier-couture-special-sac-demi-lune/
LOCATION:Salle de L’Incongrue\, 32 Grand Rue\, Gières\, 38610\, France
CATEGORIES:Activités
ATTACH;FMTTYPE=image/jpeg:https://lincongrue.fr/wp-content/uploads/2026/01/Copie-de-Atelier-Couture-Incongrue1.jpg
END:VEVENT
BEGIN:VEVENT
DTSTART;TZID=Europe/Paris:20260223T190000
DTEND;TZID=Europe/Paris:20260223T210000
DTSTAMP:20260424T140133
CREATED:20260128T092752Z
LAST-MODIFIED:20260128T092752Z
UID:54805-1771873200-1771880400@lincongrue.fr
SUMMARY:Réparons ensemble
DESCRIPTION:Un objet\, un vélo à réparer ?\nVenez et réparons le ensemble. Nos bénévoles bricolos sont plein de talents et de bons conseils pour vous aider à faire par vous même\, comme ça la prochaine fois vous saurez le faire 😉 !\nAtelier à prix Libre !\nA très vite alors
URL:https://lincongrue.fr/event/reparons-ensemble-24/
LOCATION:Salle de L’Incongrue\, 32 Grand Rue\, Gières\, 38610\, France
CATEGORIES:Activités
ATTACH;FMTTYPE=image/jpeg:https://lincongrue.fr/wp-content/uploads/2026/01/Copie-de-Affiche-Reparation-Salle-Incongrue_09_25.jpg
END:VEVENT
END:VCALENDAR