BEGIN:VCALENDAR
VERSION:2.0
PRODID:-//L&#039;incongrue - ECPv6.15.20//NONSGML v1.0//EN
CALSCALE:GREGORIAN
METHOD:PUBLISH
X-WR-CALNAME:L&#039;incongrue
X-ORIGINAL-URL:https://lincongrue.fr
X-WR-CALDESC:Évènements pour L&#039;incongrue
REFRESH-INTERVAL;VALUE=DURATION:PT1H
X-Robots-Tag:noindex
X-PUBLISHED-TTL:PT1H
BEGIN:VTIMEZONE
TZID:Europe/Paris
BEGIN:DAYLIGHT
TZOFFSETFROM:+0100
TZOFFSETTO:+0200
TZNAME:CEST
DTSTART:20250330T010000
END:DAYLIGHT
BEGIN:STANDARD
TZOFFSETFROM:+0200
TZOFFSETTO:+0100
TZNAME:CET
DTSTART:20251026T010000
END:STANDARD
BEGIN:DAYLIGHT
TZOFFSETFROM:+0100
TZOFFSETTO:+0200
TZNAME:CEST
DTSTART:20260329T010000
END:DAYLIGHT
BEGIN:STANDARD
TZOFFSETFROM:+0200
TZOFFSETTO:+0100
TZNAME:CET
DTSTART:20261025T010000
END:STANDARD
BEGIN:DAYLIGHT
TZOFFSETFROM:+0100
TZOFFSETTO:+0200
TZNAME:CEST
DTSTART:20270328T010000
END:DAYLIGHT
BEGIN:STANDARD
TZOFFSETFROM:+0200
TZOFFSETTO:+0100
TZNAME:CET
DTSTART:20271031T010000
END:STANDARD
END:VTIMEZONE
BEGIN:VEVENT
DTSTART;TZID=Europe/Paris:20260209T090000
DTEND;TZID=Europe/Paris:20260209T120000
DTSTAMP:20260423T010240
CREATED:20260128T083109Z
LAST-MODIFIED:20260209T105229Z
UID:53655-1770627600-1770638400@lincongrue.fr
SUMMARY:Atelier Couture et/ou Tricot
DESCRIPTION:Venez avec votre projet pour coudre ou tricoter. C’est plus sympa de le faire à plusieurs.\nBrigitte ou Marie Chantal pourront vous donner quelques conseils si besoin.\nMachines sur places et un peu de tissus si besoin.\nUn atelier à prix libre pour 5 personnes 😉 !\nInscrivez-vous 😉 !
URL:https://lincongrue.fr/event/atelier-couture-et-ou-tricot-79/
LOCATION:Salle de L’Incongrue\, 32 Grand Rue\, Gières\, 38610\, France
CATEGORIES:Activités
ATTACH;FMTTYPE=image/jpeg:https://lincongrue.fr/wp-content/uploads/2024/12/Atelier-Cousons-Ensemble-.jpg
END:VEVENT
BEGIN:VEVENT
DTSTART;TZID=Europe/Paris:20260209T143000
DTEND;TZID=Europe/Paris:20260209T170000
DTSTAMP:20260423T010240
CREATED:20260128T083218Z
LAST-MODIFIED:20260128T083218Z
UID:53656-1770647400-1770656400@lincongrue.fr
SUMMARY:Atelier couture et/ou tricot
DESCRIPTION:Venez avec votre projet pour coudre ou tricoter. C’est plus sympa de le faire à plusieurs.\nBrigitte ou Marie Chantal pourront vous donner quelques conseils si besoin.\nMachines sur places et un peu de tissus si besoin.\nUn atelier à prix libre pour 5 personnes 😉 !\nInscrivez-vous 😉 !
URL:https://lincongrue.fr/event/atelier-couture-et-ou-tricot-80/
LOCATION:Salle de L’Incongrue\, 32 Grand Rue\, Gières\, 38610\, France
CATEGORIES:Activités
ATTACH;FMTTYPE=image/jpeg:https://lincongrue.fr/wp-content/uploads/2024/12/Atelier-Cousons-Ensemble-.jpg
END:VEVENT
END:VCALENDAR