BEGIN:VCALENDAR
VERSION:2.0
PRODID:-//L&#039;incongrue - ECPv6.15.20//NONSGML v1.0//EN
CALSCALE:GREGORIAN
METHOD:PUBLISH
X-ORIGINAL-URL:https://lincongrue.fr
X-WR-CALDESC:Évènements pour L&#039;incongrue
REFRESH-INTERVAL;VALUE=DURATION:PT1H
X-Robots-Tag:noindex
X-PUBLISHED-TTL:PT1H
BEGIN:VTIMEZONE
TZID:Europe/Paris
BEGIN:DAYLIGHT
TZOFFSETFROM:+0100
TZOFFSETTO:+0200
TZNAME:CEST
DTSTART:20250330T010000
END:DAYLIGHT
BEGIN:STANDARD
TZOFFSETFROM:+0200
TZOFFSETTO:+0100
TZNAME:CET
DTSTART:20251026T010000
END:STANDARD
BEGIN:DAYLIGHT
TZOFFSETFROM:+0100
TZOFFSETTO:+0200
TZNAME:CEST
DTSTART:20260329T010000
END:DAYLIGHT
BEGIN:STANDARD
TZOFFSETFROM:+0200
TZOFFSETTO:+0100
TZNAME:CET
DTSTART:20261025T010000
END:STANDARD
BEGIN:DAYLIGHT
TZOFFSETFROM:+0100
TZOFFSETTO:+0200
TZNAME:CEST
DTSTART:20270328T010000
END:DAYLIGHT
BEGIN:STANDARD
TZOFFSETFROM:+0200
TZOFFSETTO:+0100
TZNAME:CET
DTSTART:20271031T010000
END:STANDARD
END:VTIMEZONE
BEGIN:VEVENT
DTSTART;TZID=Europe/Paris:20260202T090000
DTEND;TZID=Europe/Paris:20260202T120000
DTSTAMP:20260423T010652
CREATED:20260127T173522Z
LAST-MODIFIED:20260202T103730Z
UID:53650-1770022800-1770033600@lincongrue.fr
SUMMARY:Atelier Couture et/ou Tricot
DESCRIPTION:Venez avec votre projet pour coudre ou tricoter. C’est plus sympa de le faire à plusieurs.\nBrigitte ou Marie Chantal pourront vous donner quelques conseils si besoin.\nMachines sur places et un peu de tissus si besoin.\nUn atelier à prix libre pour 5 personnes 😉 !\nInscrivez-vous 😉 !
URL:https://lincongrue.fr/event/atelier-couture-et-ou-tricot-77/
LOCATION:Salle de L’Incongrue\, 32 Grand Rue\, Gières\, 38610\, France
CATEGORIES:Activités
ATTACH;FMTTYPE=image/jpeg:https://lincongrue.fr/wp-content/uploads/2024/12/Atelier-Cousons-Ensemble-.jpg
END:VEVENT
BEGIN:VEVENT
DTSTART;TZID=Europe/Paris:20260202T143000
DTEND;TZID=Europe/Paris:20260202T170000
DTSTAMP:20260423T010652
CREATED:20260127T173726Z
LAST-MODIFIED:20260127T173726Z
UID:53651-1770042600-1770051600@lincongrue.fr
SUMMARY:Atelier couture et/ou tricot
DESCRIPTION:Venez avec votre projet pour coudre ou tricoter. C’est plus sympa de le faire à plusieurs.\nBrigitte ou Marie Chantal pourront vous donner quelques conseils si besoin.\nMachines sur places et un peu de tissus si besoin.\nUn atelier à prix libre pour 5 personnes 😉 !\nInscrivez-vous 😉 !
URL:https://lincongrue.fr/event/atelier-couture-et-ou-tricot-78/
LOCATION:Salle de L’Incongrue\, 32 Grand Rue\, Gières\, 38610\, France
CATEGORIES:Activités
ATTACH;FMTTYPE=image/jpeg:https://lincongrue.fr/wp-content/uploads/2024/12/Atelier-Cousons-Ensemble-.jpg
END:VEVENT
BEGIN:VEVENT
DTSTART;TZID=Europe/Paris:20260202T200000
DTEND;TZID=Europe/Paris:20260202T213000
DTSTAMP:20260423T010652
CREATED:20260119T081525Z
LAST-MODIFIED:20260202T200730Z
UID:54662-1770062400-1770067800@lincongrue.fr
SUMMARY:Discussion : Comment manger local?
DESCRIPTION:Comment manger local ?\nBienvenue à celles et ceux qui ont envie de « manger local » ou qui le font déjà et ont envie de le faire encore plus.\nVenez échanger sur:\n– les différentes possibilités qui s’offrent à nous\,\n– les freins à cette consommation\,\n– vos idées et bons plans.\nEt peut-être à la clef une solution commune ?\nC’est le Lundi 2 février à 20:00: jour de la Chandeleur ! 😋 À bon entendeur !
URL:https://lincongrue.fr/event/discussion-comment-manger-local/
CATEGORIES:Activités
END:VEVENT
END:VCALENDAR