BEGIN:VCALENDAR
VERSION:2.0
PRODID:-//L&#039;incongrue - ECPv6.15.20//NONSGML v1.0//EN
CALSCALE:GREGORIAN
METHOD:PUBLISH
X-ORIGINAL-URL:https://lincongrue.fr
X-WR-CALDESC:Évènements pour L&#039;incongrue
REFRESH-INTERVAL;VALUE=DURATION:PT1H
X-Robots-Tag:noindex
X-PUBLISHED-TTL:PT1H
BEGIN:VTIMEZONE
TZID:Europe/Paris
BEGIN:DAYLIGHT
TZOFFSETFROM:+0100
TZOFFSETTO:+0200
TZNAME:CEST
DTSTART:20250330T010000
END:DAYLIGHT
BEGIN:STANDARD
TZOFFSETFROM:+0200
TZOFFSETTO:+0100
TZNAME:CET
DTSTART:20251026T010000
END:STANDARD
BEGIN:DAYLIGHT
TZOFFSETFROM:+0100
TZOFFSETTO:+0200
TZNAME:CEST
DTSTART:20260329T010000
END:DAYLIGHT
BEGIN:STANDARD
TZOFFSETFROM:+0200
TZOFFSETTO:+0100
TZNAME:CET
DTSTART:20261025T010000
END:STANDARD
BEGIN:DAYLIGHT
TZOFFSETFROM:+0100
TZOFFSETTO:+0200
TZNAME:CEST
DTSTART:20270328T010000
END:DAYLIGHT
BEGIN:STANDARD
TZOFFSETFROM:+0200
TZOFFSETTO:+0100
TZNAME:CET
DTSTART:20271031T010000
END:STANDARD
END:VTIMEZONE
BEGIN:VEVENT
DTSTART;TZID=Europe/Paris:20260121T184500
DTEND;TZID=Europe/Paris:20260121T193000
DTSTAMP:20260423T010708
CREATED:20251218T122913Z
LAST-MODIFIED:20260121T180729Z
UID:53642-1769021100-1769023800@lincongrue.fr
SUMMARY:Course à pied
DESCRIPTION:
URL:https://lincongrue.fr/event/course-a-pied-21/
LOCATION:salle des Fêtes\, 18 rue des martinets\, Gières\, 38610\, France
CATEGORIES:Activités
ATTACH;FMTTYPE=image/jpeg:https://lincongrue.fr/wp-content/uploads/2025/09/Course-a-pied_051.jpg
END:VEVENT
BEGIN:VEVENT
DTSTART;TZID=Europe/Paris:20260121T193000
DTEND;TZID=Europe/Paris:20260121T223000
DTSTAMP:20260423T010708
CREATED:20251218T132108Z
LAST-MODIFIED:20260121T210728Z
UID:53748-1769023800-1769034600@lincongrue.fr
SUMMARY:Soirée Gros Jeu ! SETI
DESCRIPTION:Venez jouer à un « gros jeu » SETI.
URL:https://lincongrue.fr/event/soiree-gros-jeu-seti/
LOCATION:Salle de L’Incongrue\, 32 Grand Rue\, Gières\, 38610\, France
CATEGORIES:Activités
ATTACH;FMTTYPE=image/jpeg:https://lincongrue.fr/wp-content/uploads/2025/12/Soiree-Gros-Jeu-de-societe_01_26.jpg
END:VEVENT
END:VCALENDAR