BEGIN:VCALENDAR
VERSION:2.0
PRODID:-//L&#039;incongrue - ECPv6.15.20//NONSGML v1.0//EN
CALSCALE:GREGORIAN
METHOD:PUBLISH
X-WR-CALNAME:L&#039;incongrue
X-ORIGINAL-URL:https://lincongrue.fr
X-WR-CALDESC:Évènements pour L&#039;incongrue
REFRESH-INTERVAL;VALUE=DURATION:PT1H
X-Robots-Tag:noindex
X-PUBLISHED-TTL:PT1H
BEGIN:VTIMEZONE
TZID:Europe/Paris
BEGIN:DAYLIGHT
TZOFFSETFROM:+0100
TZOFFSETTO:+0200
TZNAME:CEST
DTSTART:20240331T010000
END:DAYLIGHT
BEGIN:STANDARD
TZOFFSETFROM:+0200
TZOFFSETTO:+0100
TZNAME:CET
DTSTART:20241027T010000
END:STANDARD
BEGIN:DAYLIGHT
TZOFFSETFROM:+0100
TZOFFSETTO:+0200
TZNAME:CEST
DTSTART:20250330T010000
END:DAYLIGHT
BEGIN:STANDARD
TZOFFSETFROM:+0200
TZOFFSETTO:+0100
TZNAME:CET
DTSTART:20251026T010000
END:STANDARD
BEGIN:DAYLIGHT
TZOFFSETFROM:+0100
TZOFFSETTO:+0200
TZNAME:CEST
DTSTART:20260329T010000
END:DAYLIGHT
BEGIN:STANDARD
TZOFFSETFROM:+0200
TZOFFSETTO:+0100
TZNAME:CET
DTSTART:20261025T010000
END:STANDARD
END:VTIMEZONE
BEGIN:VEVENT
DTSTART;TZID=Europe/Paris:20251219T193000
DTEND;TZID=Europe/Paris:20251219T223000
DTSTAMP:20260422T214830
CREATED:20251124T084625Z
LAST-MODIFIED:20251219T210728Z
UID:52236-1766172600-1766183400@lincongrue.fr
SUMMARY:Spectacle Dona à la salle des fêtes
DESCRIPTION:ATTENTION RESERVATION OBLIGATOIRE\nDONA\, c’est un chœur de femmes en mouvement\, un spectacle où les chants traditionnels féminins se mêlent à une mise en scène engagée\, vibrante et sensible. Chaque chant est une histoire\, un écho d’émancipation\, de transmission ou de résistance. Une traversée dans un répertoire de traditions orales\, en italien\, français\, espagnol\, occitan ou encore breton\, qui racontent les petites et grandes histoires des femmes au travail\, en lutte mais aussi dans l’intime\, la joie et la sororité.\nSpectacle au chapeau (conseillé 10€). 
URL:https://lincongrue.fr/event/spectacle-dona-a-la-salle-des-fetes/
LOCATION:salle des Fêtes\, 18 rue des martinets\, Gières\, 38610\, France
CATEGORIES:Evenement
ATTACH;FMTTYPE=image/jpeg:https://lincongrue.fr/wp-content/uploads/2025/11/1.jpg
END:VEVENT
END:VCALENDAR