BEGIN:VCALENDAR
VERSION:2.0
PRODID:-//L&#039;incongrue - ECPv6.15.20//NONSGML v1.0//EN
CALSCALE:GREGORIAN
METHOD:PUBLISH
X-ORIGINAL-URL:https://lincongrue.fr
X-WR-CALDESC:Évènements pour L&#039;incongrue
REFRESH-INTERVAL;VALUE=DURATION:PT1H
X-Robots-Tag:noindex
X-PUBLISHED-TTL:PT1H
BEGIN:VTIMEZONE
TZID:Europe/Paris
BEGIN:DAYLIGHT
TZOFFSETFROM:+0100
TZOFFSETTO:+0200
TZNAME:CEST
DTSTART:20240331T010000
END:DAYLIGHT
BEGIN:STANDARD
TZOFFSETFROM:+0200
TZOFFSETTO:+0100
TZNAME:CET
DTSTART:20241027T010000
END:STANDARD
BEGIN:DAYLIGHT
TZOFFSETFROM:+0100
TZOFFSETTO:+0200
TZNAME:CEST
DTSTART:20250330T010000
END:DAYLIGHT
BEGIN:STANDARD
TZOFFSETFROM:+0200
TZOFFSETTO:+0100
TZNAME:CET
DTSTART:20251026T010000
END:STANDARD
BEGIN:DAYLIGHT
TZOFFSETFROM:+0100
TZOFFSETTO:+0200
TZNAME:CEST
DTSTART:20260329T010000
END:DAYLIGHT
BEGIN:STANDARD
TZOFFSETFROM:+0200
TZOFFSETTO:+0100
TZNAME:CET
DTSTART:20261025T010000
END:STANDARD
END:VTIMEZONE
BEGIN:VEVENT
DTSTART;TZID=Europe/Paris:20251205T170000
DTEND;TZID=Europe/Paris:20251205T183000
DTSTAMP:20260422T234037
CREATED:20251118T192730Z
LAST-MODIFIED:20251205T172230Z
UID:51839-1764954000-1764959400@lincongrue.fr
SUMMARY:Ecriture
DESCRIPTION:
URL:https://lincongrue.fr/event/ecriture-15/
LOCATION:Salle de L’Incongrue\, 32 Grand Rue\, Gières\, 38610\, France
CATEGORIES:Activités
ATTACH;FMTTYPE=image/jpeg:https://lincongrue.fr/wp-content/uploads/2025/11/Atelier-ecriture_05_252.jpg
END:VEVENT
BEGIN:VEVENT
DTSTART;TZID=Europe/Paris:20251205T180000
DTEND;TZID=Europe/Paris:20251205T210000
DTSTAMP:20260422T234037
CREATED:20251118T192856Z
LAST-MODIFIED:20251205T193728Z
UID:50482-1764957600-1764968400@lincongrue.fr
SUMMARY:Réparons ensemble
DESCRIPTION:Un objet\, un vélo à réparer ?\nVenez et réparons le ensemble. Nos bénévoles bricolos sont plein de talents et de bons conseils pour vous aider à faire par vous même\, comme ça la prochaine fois vous saurez le faire 😉 !\nAtelier à prix Libre !\nA très vite alors
URL:https://lincongrue.fr/event/reparons-ensemble-21/
LOCATION:Salle de L’Incongrue\, 32 Grand Rue\, Gières\, 38610\, France
CATEGORIES:Activités
ATTACH;FMTTYPE=image/jpeg:https://lincongrue.fr/wp-content/uploads/2025/11/Affiche-Reparation-Salle-Incongrue_09_253.jpg
END:VEVENT
END:VCALENDAR