BEGIN:VCALENDAR
VERSION:2.0
PRODID:-//L&#039;incongrue - ECPv6.15.20//NONSGML v1.0//EN
CALSCALE:GREGORIAN
METHOD:PUBLISH
X-ORIGINAL-URL:https://lincongrue.fr
X-WR-CALDESC:Évènements pour L&#039;incongrue
REFRESH-INTERVAL;VALUE=DURATION:PT1H
X-Robots-Tag:noindex
X-PUBLISHED-TTL:PT1H
BEGIN:VTIMEZONE
TZID:Europe/Paris
BEGIN:DAYLIGHT
TZOFFSETFROM:+0100
TZOFFSETTO:+0200
TZNAME:CEST
DTSTART:20240331T010000
END:DAYLIGHT
BEGIN:STANDARD
TZOFFSETFROM:+0200
TZOFFSETTO:+0100
TZNAME:CET
DTSTART:20241027T010000
END:STANDARD
BEGIN:DAYLIGHT
TZOFFSETFROM:+0100
TZOFFSETTO:+0200
TZNAME:CEST
DTSTART:20250330T010000
END:DAYLIGHT
BEGIN:STANDARD
TZOFFSETFROM:+0200
TZOFFSETTO:+0100
TZNAME:CET
DTSTART:20251026T010000
END:STANDARD
BEGIN:DAYLIGHT
TZOFFSETFROM:+0100
TZOFFSETTO:+0200
TZNAME:CEST
DTSTART:20260329T010000
END:DAYLIGHT
BEGIN:STANDARD
TZOFFSETFROM:+0200
TZOFFSETTO:+0100
TZNAME:CET
DTSTART:20261025T010000
END:STANDARD
END:VTIMEZONE
BEGIN:VEVENT
DTSTART;TZID=Europe/Paris:20251204T160000
DTEND;TZID=Europe/Paris:20251204T170000
DTSTAMP:20260423T024911
CREATED:20251118T164638Z
LAST-MODIFIED:20251204T153802Z
UID:49270-1764864000-1764867600@lincongrue.fr
SUMMARY:Annulé - Aide au numérique
DESCRIPTION:ATTENTION ANNULE – Vous avez une question liée au numérique\, une démarche compliquée\, un truc que vous en comprenez pas avec votre téléphone ou votre ordinateur\, Robin est là pour vous aider!
URL:https://lincongrue.fr/event/aide-au-numerique-8/
LOCATION:Salle de L’Incongrue\, 32 Grand Rue\, Gières\, 38610\, France
CATEGORIES:Activités
ATTACH;FMTTYPE=image/jpeg:https://lincongrue.fr/wp-content/uploads/2024/11/Atelier-aide-numerique_242.jpg
END:VEVENT
BEGIN:VEVENT
DTSTART;TZID=Europe/Paris:20251204T190000
DTEND;TZID=Europe/Paris:20251204T210000
DTSTAMP:20260423T024911
CREATED:20251118T181204Z
LAST-MODIFIED:20251204T193730Z
UID:51844-1764874800-1764882000@lincongrue.fr
SUMMARY:Discussion autour d'un livre
DESCRIPTION:Le livre choisi pour cette séance est:\n« Wanted » de Philippe Claudel
URL:https://lincongrue.fr/event/discussion-autour-dun-livre-14/
LOCATION:Salle de L’Incongrue\, 32 Grand Rue\, Gières\, 38610\, France
CATEGORIES:Activités
ATTACH;FMTTYPE=image/jpeg:https://lincongrue.fr/wp-content/uploads/2025/11/LIncongrue-discussion-autour-dun-livre_12_247.jpg
END:VEVENT
END:VCALENDAR