BEGIN:VCALENDAR
VERSION:2.0
PRODID:-//L&#039;incongrue - ECPv6.15.20//NONSGML v1.0//EN
CALSCALE:GREGORIAN
METHOD:PUBLISH
X-ORIGINAL-URL:https://lincongrue.fr
X-WR-CALDESC:Évènements pour L&#039;incongrue
REFRESH-INTERVAL;VALUE=DURATION:PT1H
X-Robots-Tag:noindex
X-PUBLISHED-TTL:PT1H
BEGIN:VTIMEZONE
TZID:Europe/Paris
BEGIN:DAYLIGHT
TZOFFSETFROM:+0100
TZOFFSETTO:+0200
TZNAME:CEST
DTSTART:20240331T010000
END:DAYLIGHT
BEGIN:STANDARD
TZOFFSETFROM:+0200
TZOFFSETTO:+0100
TZNAME:CET
DTSTART:20241027T010000
END:STANDARD
BEGIN:DAYLIGHT
TZOFFSETFROM:+0100
TZOFFSETTO:+0200
TZNAME:CEST
DTSTART:20250330T010000
END:DAYLIGHT
BEGIN:STANDARD
TZOFFSETFROM:+0200
TZOFFSETTO:+0100
TZNAME:CET
DTSTART:20251026T010000
END:STANDARD
BEGIN:DAYLIGHT
TZOFFSETFROM:+0100
TZOFFSETTO:+0200
TZNAME:CEST
DTSTART:20260329T010000
END:DAYLIGHT
BEGIN:STANDARD
TZOFFSETFROM:+0200
TZOFFSETTO:+0100
TZNAME:CET
DTSTART:20261025T010000
END:STANDARD
END:VTIMEZONE
BEGIN:VEVENT
DTSTART;TZID=Europe/Paris:20251129T093000
DTEND;TZID=Europe/Paris:20251129T103000
DTSTAMP:20260422T215115
CREATED:20251014T121509Z
LAST-MODIFIED:20251129T092228Z
UID:48370-1764408600-1764412200@lincongrue.fr
SUMMARY:Course à pied
DESCRIPTION:
URL:https://lincongrue.fr/event/course-a-pied-14/
LOCATION:salle des Fêtes\, 18 rue des martinets\, Gières\, 38610\, France
CATEGORIES:Activités
END:VEVENT
BEGIN:VEVENT
DTSTART;TZID=Europe/Paris:20251129T153000
DTEND;TZID=Europe/Paris:20251129T230000
DTSTAMP:20260422T215116
CREATED:20251014T121604Z
LAST-MODIFIED:20251120T085348Z
UID:49372-1764430200-1764457200@lincongrue.fr
SUMMARY:Soirée Mortelle à L'Incongrue !
DESCRIPTION:Et si nous prenions soin de nos liens avec nos disparu.es !\nSi vous voulez\, venez avec une photo\, un dessin évoquant vos morts! \n\nDès 15h30\, divers ateliers\, notamment :\n15h30 – 16h30 : Atelier pour petits et grands\, animé par Joëlle Stauffacher (autrice-illustratrice) autour de son album « Saule » (sur inscription 5€) pour parler de la mort : plus d’infos: https://www.joellestauffacher.com/_files/ugd/ce0540_8afdbe48092442bd92442a9a8f60f545.pdf \n \n17h-18h30 Café mortel animé par l’association Thanatosphère \nDes ateliers divers toute l’après-midi:\nDécorations mexicaines\, dessins et coloriages\, espace livres\, création d’un livre de recettes de nos disparu.es avec leurs petites histoires\, atelier anecdotes et souvenirs pour la mise en place d’un autel participatif\, plein de beauté\, peuplé et coloré ! et des surprises ! \n19h: REPAS PARTAGE avec ce que vous avez amené (pourquoi pas la recette préférée d’un.e de vos disparu.e.s?) \n\n21h-23h: SOIREE DANSANTE MORTELLE (playlist fouillée et riche sur le thème…amenez vos idées également !)
URL:https://lincongrue.fr/event/fete-des-morts/
LOCATION:salle des Fêtes\, 18 rue des martinets\, Gières\, 38610\, France
CATEGORIES:Evenement
ATTACH;FMTTYPE=image/jpeg:https://lincongrue.fr/wp-content/uploads/2025/10/Affiche-Fete-des-Morts-20254.jpg
END:VEVENT
END:VCALENDAR