BEGIN:VCALENDAR
VERSION:2.0
PRODID:-//L&#039;incongrue - ECPv6.15.20//NONSGML v1.0//EN
CALSCALE:GREGORIAN
METHOD:PUBLISH
X-ORIGINAL-URL:https://lincongrue.fr
X-WR-CALDESC:Évènements pour L&#039;incongrue
REFRESH-INTERVAL;VALUE=DURATION:PT1H
X-Robots-Tag:noindex
X-PUBLISHED-TTL:PT1H
BEGIN:VTIMEZONE
TZID:Europe/Paris
BEGIN:DAYLIGHT
TZOFFSETFROM:+0100
TZOFFSETTO:+0200
TZNAME:CEST
DTSTART:20240331T010000
END:DAYLIGHT
BEGIN:STANDARD
TZOFFSETFROM:+0200
TZOFFSETTO:+0100
TZNAME:CET
DTSTART:20241027T010000
END:STANDARD
BEGIN:DAYLIGHT
TZOFFSETFROM:+0100
TZOFFSETTO:+0200
TZNAME:CEST
DTSTART:20250330T010000
END:DAYLIGHT
BEGIN:STANDARD
TZOFFSETFROM:+0200
TZOFFSETTO:+0100
TZNAME:CET
DTSTART:20251026T010000
END:STANDARD
BEGIN:DAYLIGHT
TZOFFSETFROM:+0100
TZOFFSETTO:+0200
TZNAME:CEST
DTSTART:20260329T010000
END:DAYLIGHT
BEGIN:STANDARD
TZOFFSETFROM:+0200
TZOFFSETTO:+0100
TZNAME:CET
DTSTART:20261025T010000
END:STANDARD
END:VTIMEZONE
BEGIN:VEVENT
DTSTART;TZID=Europe/Paris:20251118T173000
DTEND;TZID=Europe/Paris:20251118T190000
DTSTAMP:20260422T201312
CREATED:20251014T103118Z
LAST-MODIFIED:20251118T173730Z
UID:49421-1763487000-1763492400@lincongrue.fr
SUMMARY:Aquarelle : travailler le blanc
DESCRIPTION:pour 5-6 personnes\nà partir de 13 ans.\nVenez travailler votre technique de blanc.
URL:https://lincongrue.fr/event/aquarelle-travailler-le-blanc/
LOCATION:Salle de L’Incongrue\, 32 Grand Rue\, Gières\, 38610\, France
CATEGORIES:Activités
ATTACH;FMTTYPE=image/jpeg:https://lincongrue.fr/wp-content/uploads/2025/10/Atelier-aquarelle_12.jpg
END:VEVENT
BEGIN:VEVENT
DTSTART;TZID=Europe/Paris:20251118T200000
DTEND;TZID=Europe/Paris:20251118T220000
DTSTAMP:20260422T201312
CREATED:20251113T081723Z
LAST-MODIFIED:20251118T203731Z
UID:50491-1763496000-1763503200@lincongrue.fr
SUMMARY:Soirée Jeux
DESCRIPTION:
URL:https://lincongrue.fr/event/soiree-jeux-23/
LOCATION:Salle de L’Incongrue\, 32 Grand Rue\, Gières\, 38610\, France
CATEGORIES:Activités
ATTACH;FMTTYPE=image/jpeg:https://lincongrue.fr/wp-content/uploads/2025/11/Soiree-Jeux-de-societe_07_253.jpg
END:VEVENT
END:VCALENDAR