BEGIN:VCALENDAR
VERSION:2.0
PRODID:-//L&#039;incongrue - ECPv6.15.20//NONSGML v1.0//EN
CALSCALE:GREGORIAN
METHOD:PUBLISH
X-ORIGINAL-URL:https://lincongrue.fr
X-WR-CALDESC:Évènements pour L&#039;incongrue
REFRESH-INTERVAL;VALUE=DURATION:PT1H
X-Robots-Tag:noindex
X-PUBLISHED-TTL:PT1H
BEGIN:VTIMEZONE
TZID:Europe/Paris
BEGIN:DAYLIGHT
TZOFFSETFROM:+0100
TZOFFSETTO:+0200
TZNAME:CEST
DTSTART:20240331T010000
END:DAYLIGHT
BEGIN:STANDARD
TZOFFSETFROM:+0200
TZOFFSETTO:+0100
TZNAME:CET
DTSTART:20241027T010000
END:STANDARD
BEGIN:DAYLIGHT
TZOFFSETFROM:+0100
TZOFFSETTO:+0200
TZNAME:CEST
DTSTART:20250330T010000
END:DAYLIGHT
BEGIN:STANDARD
TZOFFSETFROM:+0200
TZOFFSETTO:+0100
TZNAME:CET
DTSTART:20251026T010000
END:STANDARD
BEGIN:DAYLIGHT
TZOFFSETFROM:+0100
TZOFFSETTO:+0200
TZNAME:CEST
DTSTART:20260329T010000
END:DAYLIGHT
BEGIN:STANDARD
TZOFFSETFROM:+0200
TZOFFSETTO:+0100
TZNAME:CET
DTSTART:20261025T010000
END:STANDARD
END:VTIMEZONE
BEGIN:VEVENT
DTSTART;TZID=Europe/Paris:20251115T090000
DTEND;TZID=Europe/Paris:20251115T120000
DTSTAMP:20260424T155118
CREATED:20251014T102524Z
LAST-MODIFIED:20251115T103730Z
UID:47888-1763197200-1763208000@lincongrue.fr
SUMMARY:Couture avec Aida
DESCRIPTION:Venez passer un bon moment autour de la couture\, que vous sachiez coudre ou non.\nNous pourrons coudre ensemble des petits cadeaux pour Noël ou autres…..
URL:https://lincongrue.fr/event/couture-avec-aida-2/
LOCATION:Salle de L’Incongrue\, 32 Grand Rue\, Gières\, 38610\, France
CATEGORIES:Activités
ATTACH;FMTTYPE=image/jpeg:https://lincongrue.fr/wp-content/uploads/2025/10/Atelier-Couture-Incongrue_06_231.jpg
END:VEVENT
BEGIN:VEVENT
DTSTART;TZID=Europe/Paris:20251115T093000
DTEND;TZID=Europe/Paris:20251115T103000
DTSTAMP:20260424T155119
CREATED:20251014T102000Z
LAST-MODIFIED:20251115T090729Z
UID:48364-1763199000-1763202600@lincongrue.fr
SUMMARY:Course à pied
DESCRIPTION:
URL:https://lincongrue.fr/event/course-a-pied-10/
LOCATION:salle des Fêtes\, 18 rue des martinets\, Gières\, 38610\, France
CATEGORIES:Activités
ATTACH;FMTTYPE=image/jpeg:https://lincongrue.fr/wp-content/uploads/2025/09/Course-a-pied_051.jpg
END:VEVENT
END:VCALENDAR