BEGIN:VCALENDAR
VERSION:2.0
PRODID:-//L&#039;incongrue - ECPv6.15.20//NONSGML v1.0//EN
CALSCALE:GREGORIAN
METHOD:PUBLISH
X-ORIGINAL-URL:https://lincongrue.fr
X-WR-CALDESC:Évènements pour L&#039;incongrue
REFRESH-INTERVAL;VALUE=DURATION:PT1H
X-Robots-Tag:noindex
X-PUBLISHED-TTL:PT1H
BEGIN:VTIMEZONE
TZID:Europe/Paris
BEGIN:DAYLIGHT
TZOFFSETFROM:+0100
TZOFFSETTO:+0200
TZNAME:CEST
DTSTART:20240331T010000
END:DAYLIGHT
BEGIN:STANDARD
TZOFFSETFROM:+0200
TZOFFSETTO:+0100
TZNAME:CET
DTSTART:20241027T010000
END:STANDARD
BEGIN:DAYLIGHT
TZOFFSETFROM:+0100
TZOFFSETTO:+0200
TZNAME:CEST
DTSTART:20250330T010000
END:DAYLIGHT
BEGIN:STANDARD
TZOFFSETFROM:+0200
TZOFFSETTO:+0100
TZNAME:CET
DTSTART:20251026T010000
END:STANDARD
BEGIN:DAYLIGHT
TZOFFSETFROM:+0100
TZOFFSETTO:+0200
TZNAME:CEST
DTSTART:20260329T010000
END:DAYLIGHT
BEGIN:STANDARD
TZOFFSETFROM:+0200
TZOFFSETTO:+0100
TZNAME:CET
DTSTART:20261025T010000
END:STANDARD
END:VTIMEZONE
BEGIN:VEVENT
DTSTART;TZID=Europe/Paris:20251113T160000
DTEND;TZID=Europe/Paris:20251113T170000
DTSTAMP:20260422T201335
CREATED:20251014T101714Z
LAST-MODIFIED:20251113T153730Z
UID:49267-1763049600-1763053200@lincongrue.fr
SUMMARY:Aide au numérique
DESCRIPTION:Vous avez une question liée au numérique\, une démarche compliquée\, un truc que vous en comprenez pas avec votre téléphone ou votre ordinateur\, Robin est là pour vous aider!
URL:https://lincongrue.fr/event/aide-au-numerique-5/
CATEGORIES:Activités
ATTACH;FMTTYPE=image/jpeg:https://lincongrue.fr/wp-content/uploads/2024/11/Atelier-aide-numerique_242.jpg
END:VEVENT
BEGIN:VEVENT
DTSTART;TZID=Europe/Paris:20251113T190000
DTEND;TZID=Europe/Paris:20251113T210000
DTSTAMP:20260422T201335
CREATED:20251014T101915Z
LAST-MODIFIED:20251113T195230Z
UID:49404-1763060400-1763067600@lincongrue.fr
SUMMARY:Discussion autour d'un livre
DESCRIPTION:Le livre choisi pour cette séance est:\n« Ame brisée » de Akira Miyubayashi
URL:https://lincongrue.fr/event/discussion-autour-dun-livre-13/
LOCATION:Salle de L’Incongrue\, 32 Grand Rue\, Gières\, 38610\, France
CATEGORIES:Activités
ATTACH;FMTTYPE=image/jpeg:https://lincongrue.fr/wp-content/uploads/2024/10/Copie-de-LIncongrue-discussion-autour-dun-livre-1.jpg
END:VEVENT
BEGIN:VEVENT
DTSTART;TZID=Europe/Paris:20251113T193000
DTEND;TZID=Europe/Paris:20251113T213000
DTSTAMP:20260422T201335
CREATED:20251108T060011Z
LAST-MODIFIED:20251113T202230Z
UID:50480-1763062200-1763069400@lincongrue.fr
SUMMARY:Atelier partagé Bois/Métal
DESCRIPTION:Venez découvrir l’atelier partagé à l’Incongrue\, un lieu pour bricoler ensembles\, partager des outils\, apprendre et transmettre.
URL:https://lincongrue.fr/event/atelier-partage-bois-metal-2/
CATEGORIES:Activités
ATTACH;FMTTYPE=image/jpeg:https://lincongrue.fr/wp-content/uploads/2025/11/Atelier-bois-metal_06_252.jpg
END:VEVENT
END:VCALENDAR