BEGIN:VCALENDAR
VERSION:2.0
PRODID:-//L&#039;incongrue - ECPv6.15.20//NONSGML v1.0//EN
CALSCALE:GREGORIAN
METHOD:PUBLISH
X-WR-CALNAME:L&#039;incongrue
X-ORIGINAL-URL:https://lincongrue.fr
X-WR-CALDESC:Évènements pour L&#039;incongrue
REFRESH-INTERVAL;VALUE=DURATION:PT1H
X-Robots-Tag:noindex
X-PUBLISHED-TTL:PT1H
BEGIN:VTIMEZONE
TZID:Europe/Paris
BEGIN:DAYLIGHT
TZOFFSETFROM:+0100
TZOFFSETTO:+0200
TZNAME:CEST
DTSTART:20240331T010000
END:DAYLIGHT
BEGIN:STANDARD
TZOFFSETFROM:+0200
TZOFFSETTO:+0100
TZNAME:CET
DTSTART:20241027T010000
END:STANDARD
BEGIN:DAYLIGHT
TZOFFSETFROM:+0100
TZOFFSETTO:+0200
TZNAME:CEST
DTSTART:20250330T010000
END:DAYLIGHT
BEGIN:STANDARD
TZOFFSETFROM:+0200
TZOFFSETTO:+0100
TZNAME:CET
DTSTART:20251026T010000
END:STANDARD
BEGIN:DAYLIGHT
TZOFFSETFROM:+0100
TZOFFSETTO:+0200
TZNAME:CEST
DTSTART:20260329T010000
END:DAYLIGHT
BEGIN:STANDARD
TZOFFSETFROM:+0200
TZOFFSETTO:+0100
TZNAME:CET
DTSTART:20261025T010000
END:STANDARD
END:VTIMEZONE
BEGIN:VEVENT
DTSTART;TZID=Europe/Paris:20251106T160000
DTEND;TZID=Europe/Paris:20251106T170000
DTSTAMP:20260422T200811
CREATED:20251014T094237Z
LAST-MODIFIED:20251106T155231Z
UID:49266-1762444800-1762448400@lincongrue.fr
SUMMARY:Aide au numérique
DESCRIPTION:Vous avez une question liée au numérique\, une démarche compliquée\, un truc que vous en comprenez pas avec votre téléphone ou votre ordinateur\, Robin est là pour vous aider!
URL:https://lincongrue.fr/event/aide-au-numerique-4/
LOCATION:Salle de L’Incongrue\, 32 Grand Rue\, Gières\, 38610\, France
CATEGORIES:Activités
ATTACH;FMTTYPE=image/jpeg:https://lincongrue.fr/wp-content/uploads/2024/11/Atelier-aide-numerique_242.jpg
END:VEVENT
BEGIN:VEVENT
DTSTART;TZID=Europe/Paris:20251106T170000
DTEND;TZID=Europe/Paris:20251106T190000
DTSTAMP:20260422T200811
CREATED:20251106T105628Z
LAST-MODIFIED:20251106T173728Z
UID:51423-1762448400-1762455600@lincongrue.fr
SUMMARY:Ecriture
DESCRIPTION:
URL:https://lincongrue.fr/event/ecriture-14/
CATEGORIES:Activités
ATTACH;FMTTYPE=image/jpeg:https://lincongrue.fr/wp-content/uploads/2025/11/Atelier-ecriture_05_251.jpg
END:VEVENT
END:VCALENDAR