BEGIN:VCALENDAR
VERSION:2.0
PRODID:-//L&#039;incongrue - ECPv6.15.20//NONSGML v1.0//EN
CALSCALE:GREGORIAN
METHOD:PUBLISH
X-WR-CALNAME:L&#039;incongrue
X-ORIGINAL-URL:https://lincongrue.fr
X-WR-CALDESC:Évènements pour L&#039;incongrue
REFRESH-INTERVAL;VALUE=DURATION:PT1H
X-Robots-Tag:noindex
X-PUBLISHED-TTL:PT1H
BEGIN:VTIMEZONE
TZID:Europe/Paris
BEGIN:DAYLIGHT
TZOFFSETFROM:+0100
TZOFFSETTO:+0200
TZNAME:CEST
DTSTART:20240331T010000
END:DAYLIGHT
BEGIN:STANDARD
TZOFFSETFROM:+0200
TZOFFSETTO:+0100
TZNAME:CET
DTSTART:20241027T010000
END:STANDARD
BEGIN:DAYLIGHT
TZOFFSETFROM:+0100
TZOFFSETTO:+0200
TZNAME:CEST
DTSTART:20250330T010000
END:DAYLIGHT
BEGIN:STANDARD
TZOFFSETFROM:+0200
TZOFFSETTO:+0100
TZNAME:CET
DTSTART:20251026T010000
END:STANDARD
BEGIN:DAYLIGHT
TZOFFSETFROM:+0100
TZOFFSETTO:+0200
TZNAME:CEST
DTSTART:20260329T010000
END:DAYLIGHT
BEGIN:STANDARD
TZOFFSETFROM:+0200
TZOFFSETTO:+0100
TZNAME:CET
DTSTART:20261025T010000
END:STANDARD
END:VTIMEZONE
BEGIN:VEVENT
DTSTART;TZID=Europe/Paris:20251007T090000
DTEND;TZID=Europe/Paris:20251007T120000
DTSTAMP:20260422T182548
CREATED:20250626T164833Z
LAST-MODIFIED:20251007T093730Z
UID:40830-1759827600-1759838400@lincongrue.fr
SUMMARY:Formation NOVA 3/5
DESCRIPTION:Une Formation à la non violence Active\, proposée par Maylis et Claire en lien avec l’Incongrue\nInfos et réservations: 0651606908 / mailto:maylis.dealmeida@lilo.org
URL:https://lincongrue.fr/event/formation-nova-3-5/
LOCATION:Salle de L’Incongrue\, 32 Grand Rue\, Gières\, 38610\, France
CATEGORIES:Formations
ATTACH;FMTTYPE=image/png:https://lincongrue.fr/wp-content/uploads/2025/06/Animee-par-Maylis-De-Almeida-Claire-Huan.png
END:VEVENT
BEGIN:VEVENT
DTSTART;TZID=Europe/Paris:20251007T190000
DTEND;TZID=Europe/Paris:20251007T220000
DTSTAMP:20260422T182548
CREATED:20250916T100741Z
LAST-MODIFIED:20251007T192231Z
UID:48100-1759863600-1759874400@lincongrue.fr
SUMMARY:Soirée Coinche
DESCRIPTION:
URL:https://lincongrue.fr/event/soiree-coinche-33/
LOCATION:Salle de L’Incongrue\, 32 Grand Rue\, Gières\, 38610\, France
CATEGORIES:Activités
ATTACH;FMTTYPE=image/jpeg:https://lincongrue.fr/wp-content/uploads/2025/03/Soiree-Coinche_Mardi2.jpg
END:VEVENT
END:VCALENDAR