BEGIN:VCALENDAR
VERSION:2.0
PRODID:-//L&#039;incongrue - ECPv6.15.20//NONSGML v1.0//EN
CALSCALE:GREGORIAN
METHOD:PUBLISH
X-WR-CALNAME:L&#039;incongrue
X-ORIGINAL-URL:https://lincongrue.fr
X-WR-CALDESC:Évènements pour L&#039;incongrue
REFRESH-INTERVAL;VALUE=DURATION:PT1H
X-Robots-Tag:noindex
X-PUBLISHED-TTL:PT1H
BEGIN:VTIMEZONE
TZID:Europe/Paris
BEGIN:DAYLIGHT
TZOFFSETFROM:+0100
TZOFFSETTO:+0200
TZNAME:CEST
DTSTART:20240331T010000
END:DAYLIGHT
BEGIN:STANDARD
TZOFFSETFROM:+0200
TZOFFSETTO:+0100
TZNAME:CET
DTSTART:20241027T010000
END:STANDARD
BEGIN:DAYLIGHT
TZOFFSETFROM:+0100
TZOFFSETTO:+0200
TZNAME:CEST
DTSTART:20250330T010000
END:DAYLIGHT
BEGIN:STANDARD
TZOFFSETFROM:+0200
TZOFFSETTO:+0100
TZNAME:CET
DTSTART:20251026T010000
END:STANDARD
BEGIN:DAYLIGHT
TZOFFSETFROM:+0100
TZOFFSETTO:+0200
TZNAME:CEST
DTSTART:20260329T010000
END:DAYLIGHT
BEGIN:STANDARD
TZOFFSETFROM:+0200
TZOFFSETTO:+0100
TZNAME:CET
DTSTART:20261025T010000
END:STANDARD
END:VTIMEZONE
BEGIN:VEVENT
DTSTART;TZID=Europe/Paris:20250203T090000
DTEND;TZID=Europe/Paris:20250203T120000
DTSTAMP:20260421T103412
CREATED:20250117T095952Z
LAST-MODIFIED:20250203T103744Z
UID:35058-1738573200-1738584000@lincongrue.fr
SUMMARY:Atelier Couture et/ou Tricot
DESCRIPTION:
URL:https://lincongrue.fr/event/atelier-couture-et-ou-tricot-9/
LOCATION:Salle de L’Incongrue\, 32 Grand Rue\, Gières\, 38610\, France
CATEGORIES:Activités
ATTACH;FMTTYPE=image/jpeg:https://lincongrue.fr/wp-content/uploads/2024/12/Atelier-Cousons-Ensemble-.jpg
END:VEVENT
BEGIN:VEVENT
DTSTART;TZID=Europe/Paris:20250203T143000
DTEND;TZID=Europe/Paris:20250203T170000
DTSTAMP:20260421T103412
CREATED:20250117T100051Z
LAST-MODIFIED:20250203T154840Z
UID:35059-1738593000-1738602000@lincongrue.fr
SUMMARY:Atelier Couture et/ou Tricot
DESCRIPTION:
URL:https://lincongrue.fr/event/atelier-couture-et-ou-tricot-10/
LOCATION:Salle de L’Incongrue\, 32 Grand Rue\, Gières\, 38610\, France
CATEGORIES:Activités
ATTACH;FMTTYPE=image/jpeg:https://lincongrue.fr/wp-content/uploads/2024/12/Atelier-Cousons-Ensemble-.jpg
END:VEVENT
BEGIN:VEVENT
DTSTART;TZID=Europe/Paris:20250203T200000
DTEND;TZID=Europe/Paris:20250203T220000
DTSTAMP:20260421T103412
CREATED:20250117T101437Z
LAST-MODIFIED:20250203T203730Z
UID:36627-1738612800-1738620000@lincongrue.fr
SUMMARY:Musique et Chant !
DESCRIPTION:Un moment poru se retrouver et chanter ce qui nous plait !\nBienvenue aux musicien.ne.s et chanteur.euses 😉\nUn moment convivial en musique !!\nDItes-nous que vous venez…\nAtelier à prix Libre ! comme habituellement
URL:https://lincongrue.fr/event/musique-et-chant-7/
LOCATION:Salle de L’Incongrue\, 32 Grand Rue\, Gières\, 38610\, France
CATEGORIES:Activités
ATTACH;FMTTYPE=image/jpeg:https://lincongrue.fr/wp-content/uploads/2025/01/Soiree-Musique-et-Chant_01_25.jpg
END:VEVENT
END:VCALENDAR