BEGIN:VCALENDAR
VERSION:2.0
PRODID:-//L&#039;incongrue - ECPv6.15.20//NONSGML v1.0//EN
CALSCALE:GREGORIAN
METHOD:PUBLISH
X-ORIGINAL-URL:https://lincongrue.fr
X-WR-CALDESC:Évènements pour L&#039;incongrue
REFRESH-INTERVAL;VALUE=DURATION:PT1H
X-Robots-Tag:noindex
X-PUBLISHED-TTL:PT1H
BEGIN:VTIMEZONE
TZID:Europe/Paris
BEGIN:DAYLIGHT
TZOFFSETFROM:+0100
TZOFFSETTO:+0200
TZNAME:CEST
DTSTART:20240331T010000
END:DAYLIGHT
BEGIN:STANDARD
TZOFFSETFROM:+0200
TZOFFSETTO:+0100
TZNAME:CET
DTSTART:20241027T010000
END:STANDARD
BEGIN:DAYLIGHT
TZOFFSETFROM:+0100
TZOFFSETTO:+0200
TZNAME:CEST
DTSTART:20250330T010000
END:DAYLIGHT
BEGIN:STANDARD
TZOFFSETFROM:+0200
TZOFFSETTO:+0100
TZNAME:CET
DTSTART:20251026T010000
END:STANDARD
BEGIN:DAYLIGHT
TZOFFSETFROM:+0100
TZOFFSETTO:+0200
TZNAME:CEST
DTSTART:20260329T010000
END:DAYLIGHT
BEGIN:STANDARD
TZOFFSETFROM:+0200
TZOFFSETTO:+0100
TZNAME:CET
DTSTART:20261025T010000
END:STANDARD
END:VTIMEZONE
BEGIN:VEVENT
DTSTART;TZID=Europe/Paris:20250116T141500
DTEND;TZID=Europe/Paris:20250116T151500
DTSTAMP:20260423T123617
CREATED:20241216T155851Z
LAST-MODIFIED:20250116T133757Z
UID:34758-1737036900-1737040500@lincongrue.fr
SUMMARY:Sophrologie
DESCRIPTION:
URL:https://lincongrue.fr/event/sophrologie-14/
LOCATION:Salle de L’Incongrue\, 32 Grand Rue\, Gières\, 38610\, France
CATEGORIES:Activités
ATTACH;FMTTYPE=image/jpeg:https://lincongrue.fr/wp-content/uploads/2024/12/Atelier-sophro_01_241.jpg
END:VEVENT
BEGIN:VEVENT
DTSTART;TZID=Europe/Paris:20250116T160000
DTEND;TZID=Europe/Paris:20250116T170000
DTSTAMP:20260423T123617
CREATED:20241216T162522Z
LAST-MODIFIED:20250116T153728Z
UID:32168-1737043200-1737046800@lincongrue.fr
SUMMARY:aide au numérique (ordi/tablette/smartphone)
DESCRIPTION:Aide à l’utilisation des appareils numériques et aux démarches en ligne.
URL:https://lincongrue.fr/event/aide-au-numerique-ordi-tablette-smartphone-6/
LOCATION:Salle de L’Incongrue\, 32 Grand Rue\, Gières\, 38610\, France
CATEGORIES:Activités
ATTACH;FMTTYPE=image/jpeg:https://lincongrue.fr/wp-content/uploads/2024/11/Atelier-aide-numerique_242.jpg
END:VEVENT
BEGIN:VEVENT
DTSTART;TZID=Europe/Paris:20250116T183000
DTEND;TZID=Europe/Paris:20250116T203000
DTSTAMP:20260423T123617
CREATED:20241216T163203Z
LAST-MODIFIED:20250116T192604Z
UID:34759-1737052200-1737059400@lincongrue.fr
SUMMARY:Discussion autour d'un livre
DESCRIPTION:Une soirée de discussion exceptionnelle autour de 4 biographie:\nAngela DAVIS\nOlga BANCIC\nCOLETTE\nAnne FRANCK\nPour l’occasion\, nous aurons la chance d’avoir avec nous l’écrivaine\, Marie Florence EHRET qui se fera un plaisir de  discuter avec nous.\nAtelier à prix Libre\nInscrivez-vous !
URL:https://lincongrue.fr/event/discussion-autour-dun-livre-5/
LOCATION:Salle de L’Incongrue\, 32 Grand Rue\, Gières\, 38610\, France
CATEGORIES:Activités
ATTACH;FMTTYPE=image/jpeg:https://lincongrue.fr/wp-content/uploads/2024/12/LIncongrue-discussion-autour-dun-livre_12_24.jpg
END:VEVENT
END:VCALENDAR