BEGIN:VCALENDAR
VERSION:2.0
PRODID:-//L&#039;incongrue - ECPv6.15.20//NONSGML v1.0//EN
CALSCALE:GREGORIAN
METHOD:PUBLISH
X-WR-CALNAME:L&#039;incongrue
X-ORIGINAL-URL:https://lincongrue.fr
X-WR-CALDESC:Évènements pour L&#039;incongrue
REFRESH-INTERVAL;VALUE=DURATION:PT1H
X-Robots-Tag:noindex
X-PUBLISHED-TTL:PT1H
BEGIN:VTIMEZONE
TZID:Europe/Paris
BEGIN:DAYLIGHT
TZOFFSETFROM:+0100
TZOFFSETTO:+0200
TZNAME:CEST
DTSTART:20240331T010000
END:DAYLIGHT
BEGIN:STANDARD
TZOFFSETFROM:+0200
TZOFFSETTO:+0100
TZNAME:CET
DTSTART:20241027T010000
END:STANDARD
BEGIN:DAYLIGHT
TZOFFSETFROM:+0100
TZOFFSETTO:+0200
TZNAME:CEST
DTSTART:20250330T010000
END:DAYLIGHT
BEGIN:STANDARD
TZOFFSETFROM:+0200
TZOFFSETTO:+0100
TZNAME:CET
DTSTART:20251026T010000
END:STANDARD
BEGIN:DAYLIGHT
TZOFFSETFROM:+0100
TZOFFSETTO:+0200
TZNAME:CEST
DTSTART:20260329T010000
END:DAYLIGHT
BEGIN:STANDARD
TZOFFSETFROM:+0200
TZOFFSETTO:+0100
TZNAME:CET
DTSTART:20261025T010000
END:STANDARD
END:VTIMEZONE
BEGIN:VEVENT
DTSTART;TZID=Europe/Paris:20250109T160000
DTEND;TZID=Europe/Paris:20250109T170000
DTSTAMP:20260424T113839
CREATED:20241216T145642Z
LAST-MODIFIED:20250109T152300Z
UID:32167-1736438400-1736442000@lincongrue.fr
SUMMARY:aide au numérique (ordi/tablette/smartphone)
DESCRIPTION:Aide à l’utilisation des appareils numériques et aux démarches en ligne.
URL:https://lincongrue.fr/event/aide-au-numerique-ordi-tablette-smartphone-5/
LOCATION:Salle de L’Incongrue\, 32 Grand Rue\, Gières\, 38610\, France
CATEGORIES:Activités
ATTACH;FMTTYPE=image/jpeg:https://lincongrue.fr/wp-content/uploads/2024/11/Atelier-aide-numerique_242.jpg
END:VEVENT
BEGIN:VEVENT
DTSTART;TZID=Europe/Paris:20250109T170000
DTEND;TZID=Europe/Paris:20250109T180000
DTSTAMP:20260424T113839
CREATED:20250108T101426Z
LAST-MODIFIED:20250109T164222Z
UID:36072-1736442000-1736445600@lincongrue.fr
SUMMARY:Ecriture
DESCRIPTION:
URL:https://lincongrue.fr/event/ecriture-9/
CATEGORIES:Activités
END:VEVENT
BEGIN:VEVENT
DTSTART;TZID=Europe/Paris:20250109T190000
DTEND;TZID=Europe/Paris:20250109T210000
DTSTAMP:20260424T113839
CREATED:20241021T071443Z
LAST-MODIFIED:20250109T195237Z
UID:30335-1736449200-1736456400@lincongrue.fr
SUMMARY:Orientation et lecture de cartes topographiques
DESCRIPTION:Un atelier pour apprendre à regarder et lire une carte topographique. Vous serez accompagné par Gérard qui a une connaissance bien complète de cette discipline.\nUn atelier en 4 fois (s’inscrire pour l’ensemble du parcours).\nUn atelier à prix Libre ! comme souvent à l’Incongrue.\nInscription ci-dessous.
URL:https://lincongrue.fr/event/orientation-et-lecture-de-cartes-topographiques-2/
LOCATION:Salle de L’Incongrue\, 32 Grand Rue\, Gières\, 38610\, France
CATEGORIES:Activités
ATTACH;FMTTYPE=image/jpeg:https://lincongrue.fr/wp-content/uploads/2024/10/Orientation-lecture-carte_11_241.jpg
END:VEVENT
END:VCALENDAR