BEGIN:VCALENDAR
VERSION:2.0
PRODID:-//L&#039;incongrue - ECPv6.15.20//NONSGML v1.0//EN
CALSCALE:GREGORIAN
METHOD:PUBLISH
X-ORIGINAL-URL:https://lincongrue.fr
X-WR-CALDESC:Évènements pour L&#039;incongrue
REFRESH-INTERVAL;VALUE=DURATION:PT1H
X-Robots-Tag:noindex
X-PUBLISHED-TTL:PT1H
BEGIN:VTIMEZONE
TZID:Europe/Paris
BEGIN:DAYLIGHT
TZOFFSETFROM:+0100
TZOFFSETTO:+0200
TZNAME:CEST
DTSTART:20230326T010000
END:DAYLIGHT
BEGIN:STANDARD
TZOFFSETFROM:+0200
TZOFFSETTO:+0100
TZNAME:CET
DTSTART:20231029T010000
END:STANDARD
BEGIN:DAYLIGHT
TZOFFSETFROM:+0100
TZOFFSETTO:+0200
TZNAME:CEST
DTSTART:20240331T010000
END:DAYLIGHT
BEGIN:STANDARD
TZOFFSETFROM:+0200
TZOFFSETTO:+0100
TZNAME:CET
DTSTART:20241027T010000
END:STANDARD
BEGIN:DAYLIGHT
TZOFFSETFROM:+0100
TZOFFSETTO:+0200
TZNAME:CEST
DTSTART:20250330T010000
END:DAYLIGHT
BEGIN:STANDARD
TZOFFSETFROM:+0200
TZOFFSETTO:+0100
TZNAME:CET
DTSTART:20251026T010000
END:STANDARD
END:VTIMEZONE
BEGIN:VEVENT
DTSTART;TZID=Europe/Paris:20240614T194500
DTEND;TZID=Europe/Paris:20240614T210000
DTSTAMP:20260424T141801
CREATED:20240514T090152Z
LAST-MODIFIED:20240614T185245Z
UID:20346-1718394300-1718398800@lincongrue.fr
SUMMARY:Spectacle : Tiziano
DESCRIPTION:Tiziano\nSpectacle Solo  – 45 min – A partir de 9 ans\nTiziano est un conte péri-urbain ou un jeune homme \, aux prises avec La Mort\, un démon sous-traitant et un passé traumatisant se dépatouille  avec les nombreuses tuiles de sa vie en chantier…\n…Un histoire tendre\, en clair obscur\, où un narrateur bienveillant et complice\, n’aura de cesse\, au propre comme au figuré\, de jongler avec musiques\, balles et mots pour faire naitre dans vos tête les images de cette histoire singulière…\nPour un aperçu:\nhttps://www.maingaucheprod.com/tiziano
URL:https://lincongrue.fr/event/spectacle-tiziano/
LOCATION:Cour de l’incongrue
CATEGORIES:Evenement
ATTACH;FMTTYPE=image/jpeg:https://lincongrue.fr/wp-content/uploads/2024/05/Spectacle-Tiziano_06_24.jpg
END:VEVENT
END:VCALENDAR