BEGIN:VCALENDAR
VERSION:2.0
PRODID:-//L&#039;incongrue - ECPv6.15.20//NONSGML v1.0//EN
CALSCALE:GREGORIAN
METHOD:PUBLISH
X-WR-CALNAME:L&#039;incongrue
X-ORIGINAL-URL:https://lincongrue.fr
X-WR-CALDESC:Évènements pour L&#039;incongrue
REFRESH-INTERVAL;VALUE=DURATION:PT1H
X-Robots-Tag:noindex
X-PUBLISHED-TTL:PT1H
BEGIN:VTIMEZONE
TZID:Europe/Paris
BEGIN:DAYLIGHT
TZOFFSETFROM:+0100
TZOFFSETTO:+0200
TZNAME:CEST
DTSTART:20230326T010000
END:DAYLIGHT
BEGIN:STANDARD
TZOFFSETFROM:+0200
TZOFFSETTO:+0100
TZNAME:CET
DTSTART:20231029T010000
END:STANDARD
BEGIN:DAYLIGHT
TZOFFSETFROM:+0100
TZOFFSETTO:+0200
TZNAME:CEST
DTSTART:20240331T010000
END:DAYLIGHT
BEGIN:STANDARD
TZOFFSETFROM:+0200
TZOFFSETTO:+0100
TZNAME:CET
DTSTART:20241027T010000
END:STANDARD
BEGIN:DAYLIGHT
TZOFFSETFROM:+0100
TZOFFSETTO:+0200
TZNAME:CEST
DTSTART:20250330T010000
END:DAYLIGHT
BEGIN:STANDARD
TZOFFSETFROM:+0200
TZOFFSETTO:+0100
TZNAME:CET
DTSTART:20251026T010000
END:STANDARD
END:VTIMEZONE
BEGIN:VEVENT
DTSTART;TZID=Europe/Paris:20240606T160000
DTEND;TZID=Europe/Paris:20240606T173000
DTSTAMP:20260424T123555
CREATED:20240513T153231Z
LAST-MODIFIED:20240606T150755Z
UID:18043-1717689600-1717695000@lincongrue.fr
SUMMARY:Pratique partagée de Taï Chï
DESCRIPTION:Pratique partagée de Taï Chi !\nDérivé des arts martiaux\, le taï-chi est une discipline corporelle qui fait partie des exercices énergétiques de la Médecine traditionnelle chinoise..\nVous serez accompagnés par Jeanne pour cet Atelier.\nRéservez si cela vous intéresse !\nA très vite.
URL:https://lincongrue.fr/event/pratique-partagee-de-tai-chi-24/
LOCATION:Salle des platanes en hiver / Exterieur en été
CATEGORIES:Activités
ATTACH;FMTTYPE=image/jpeg:https://lincongrue.fr/wp-content/uploads/2024/04/Pratique-partagee-de-Tai-Chi_LIncongrue_09_23.jpg
END:VEVENT
BEGIN:VEVENT
DTSTART;TZID=Europe/Paris:20240606T173000
DTEND;TZID=Europe/Paris:20240606T193000
DTSTAMP:20260424T123555
CREATED:20240506T061813Z
LAST-MODIFIED:20240606T170734Z
UID:19217-1717695000-1717702200@lincongrue.fr
SUMMARY:Fresque de la mobilité
DESCRIPTION:Un atelier-jeu collectif pour mieux saisir les impacts des mobilités leurs impacts d’émissions Carbone et trouver des leviers d’action.\nUn Atelier en 3 étapes:\n1 – Comprendre\nDes cartes et des quizz vous aident à reconstituer le panorama de la mobilité des personnes en France d’aujourd’hui et ses impacts.\n2 – Découvrir\nLe jeu de rôle permet au groupe d’explorer tous les leviers d’actions de réduction de l’empreinte carbone de la mobilité qui existent.\n3 – Agir\nAppuyez-vous sur ces leviers et sur vos échanges pour amorcer votre transition vers une mobilité bas carbone.
URL:https://lincongrue.fr/event/fresque-de-la-mobilite/
LOCATION:parc Charly Guibbaud\, 15 Rue Victor Hugo\, Gières\, 38610\, France
CATEGORIES:Activités
ATTACH;FMTTYPE=image/jpeg:https://lincongrue.fr/wp-content/uploads/2024/05/Fresque-de-la-mobilite-1.jpg
END:VEVENT
BEGIN:VEVENT
DTSTART;TZID=Europe/Paris:20240606T200000
DTEND;TZID=Europe/Paris:20240606T220000
DTSTAMP:20260424T123555
CREATED:20240513T154714Z
LAST-MODIFIED:20240606T193809Z
UID:17871-1717704000-1717711200@lincongrue.fr
SUMMARY:Spectacle Hexagone / Point de Bascule
DESCRIPTION:Un spectacle co-écrit avec des chercheuses et chercheurs du CNRS et des enseignant.e.s-chercheur.e.s de l’UGA\, Point de bascule aborde avec pertinence et humour les concepts scientifiques liés à la crise environnementale et les défis posés par la transition écologique.\nTout a commencé le jour où Barthélémy Champenois\, chercheur-cycliste en méta-science\, a ouvert ce courrier d’Air France\, lui proposant de compenser ses émissions de CO2 de son vol pour New York où il a donné sa dernière conférence. Il refuse l’offre pour s’en charger lui-même et se retrouve embarqué dans une course folle à la compensation carbone\, le propulsant bien au-delà des limites de l’absurde. Nous le suivons dans sa quête de vérité pétrie d’humour\, entre ses calculs\, ses doutes\, ses explications scientifiques et sa folie\, suspendu entre un passé qu’il ne peut pas changer et un avenir qui semble bien difficile à éviter.\nUne conférence-spectacle drôle et décalée sur nos manières de vivre avec les contradictions qui nous animent face à la crise environnementale.
URL:https://lincongrue.fr/event/spectacle-hexagone-parc-charly-guibbaud/
LOCATION:parc Charly Guibbaud\, 15 Rue Victor Hugo\, Gières\, 38610\, France
CATEGORIES:Evenement
ATTACH;FMTTYPE=image/jpeg:https://lincongrue.fr/wp-content/uploads/2024/05/Spectacle-Hexagone_06_24.jpg
END:VEVENT
END:VCALENDAR