BEGIN:VCALENDAR
VERSION:2.0
PRODID:-//L&#039;incongrue - ECPv6.15.20//NONSGML v1.0//EN
CALSCALE:GREGORIAN
METHOD:PUBLISH
X-WR-CALNAME:L&#039;incongrue
X-ORIGINAL-URL:https://lincongrue.fr
X-WR-CALDESC:Évènements pour L&#039;incongrue
REFRESH-INTERVAL;VALUE=DURATION:PT1H
X-Robots-Tag:noindex
X-PUBLISHED-TTL:PT1H
BEGIN:VTIMEZONE
TZID:Europe/Paris
BEGIN:DAYLIGHT
TZOFFSETFROM:+0100
TZOFFSETTO:+0200
TZNAME:CEST
DTSTART:20230326T010000
END:DAYLIGHT
BEGIN:STANDARD
TZOFFSETFROM:+0200
TZOFFSETTO:+0100
TZNAME:CET
DTSTART:20231029T010000
END:STANDARD
BEGIN:DAYLIGHT
TZOFFSETFROM:+0100
TZOFFSETTO:+0200
TZNAME:CEST
DTSTART:20240331T010000
END:DAYLIGHT
BEGIN:STANDARD
TZOFFSETFROM:+0200
TZOFFSETTO:+0100
TZNAME:CET
DTSTART:20241027T010000
END:STANDARD
BEGIN:DAYLIGHT
TZOFFSETFROM:+0100
TZOFFSETTO:+0200
TZNAME:CEST
DTSTART:20250330T010000
END:DAYLIGHT
BEGIN:STANDARD
TZOFFSETFROM:+0200
TZOFFSETTO:+0100
TZNAME:CET
DTSTART:20251026T010000
END:STANDARD
END:VTIMEZONE
BEGIN:VEVENT
DTSTART;VALUE=DATE:20240508
DTEND;VALUE=DATE:20240513
DTSTAMP:20260422T143014
CREATED:20240506T164137Z
LAST-MODIFIED:20240512T233945Z
UID:18234-1715126400-1715558399@lincongrue.fr
SUMMARY:FERMETURE
DESCRIPTION:
URL:https://lincongrue.fr/event/fermeture/
ATTACH;FMTTYPE=image/jpeg:https://lincongrue.fr/wp-content/uploads/2023/02/Vacances-1.jpg
END:VEVENT
BEGIN:VEVENT
DTSTART;TZID=Europe/Paris:20240509T161500
DTEND;TZID=Europe/Paris:20240509T171500
DTSTAMP:20260422T143014
CREATED:20240415T150846Z
LAST-MODIFIED:20240509T145409Z
UID:17852-1715271300-1715274900@lincongrue.fr
SUMMARY:Pratique partagée de Taï Chï
DESCRIPTION:Pratique partagée de Taï Chi !\nDérivé des arts martiaux\, le taï-chi est une discipline corporelle qui fait partie des exercices énergétiques de la Médecine traditionnelle chinoise..\nVous serez accompagnés par Jeanne pour cet Atelier.\nRéservez si cela vous intéresse !\nA très vite.
URL:https://lincongrue.fr/event/pratique-partagee-de-tai-chi-7/
LOCATION:Salle des platanes en hiver / Exterieur en été
CATEGORIES:Activités
ATTACH;FMTTYPE=image/jpeg:https://lincongrue.fr/wp-content/uploads/2024/04/Pratique-partagee-de-Tai-Chi_LIncongrue_09_23-1.jpg
END:VEVENT
END:VCALENDAR