BEGIN:VCALENDAR
VERSION:2.0
PRODID:-//L&#039;incongrue - ECPv6.15.20//NONSGML v1.0//EN
CALSCALE:GREGORIAN
METHOD:PUBLISH
X-WR-CALNAME:L&#039;incongrue
X-ORIGINAL-URL:https://lincongrue.fr
X-WR-CALDESC:Évènements pour L&#039;incongrue
REFRESH-INTERVAL;VALUE=DURATION:PT1H
X-Robots-Tag:noindex
X-PUBLISHED-TTL:PT1H
BEGIN:VTIMEZONE
TZID:Europe/Paris
BEGIN:DAYLIGHT
TZOFFSETFROM:+0100
TZOFFSETTO:+0200
TZNAME:CEST
DTSTART:20230326T010000
END:DAYLIGHT
BEGIN:STANDARD
TZOFFSETFROM:+0200
TZOFFSETTO:+0100
TZNAME:CET
DTSTART:20231029T010000
END:STANDARD
BEGIN:DAYLIGHT
TZOFFSETFROM:+0100
TZOFFSETTO:+0200
TZNAME:CEST
DTSTART:20240331T010000
END:DAYLIGHT
BEGIN:STANDARD
TZOFFSETFROM:+0200
TZOFFSETTO:+0100
TZNAME:CET
DTSTART:20241027T010000
END:STANDARD
BEGIN:DAYLIGHT
TZOFFSETFROM:+0100
TZOFFSETTO:+0200
TZNAME:CEST
DTSTART:20250330T010000
END:DAYLIGHT
BEGIN:STANDARD
TZOFFSETFROM:+0200
TZOFFSETTO:+0100
TZNAME:CET
DTSTART:20251026T010000
END:STANDARD
END:VTIMEZONE
BEGIN:VEVENT
DTSTART;TZID=Europe/Paris:20240502T153000
DTEND;TZID=Europe/Paris:20240502T170000
DTSTAMP:20260424T110833
CREATED:20240314T161009Z
LAST-MODIFIED:20240314T165253Z
UID:12774-1714663800-1714669200@lincongrue.fr
SUMMARY:Atelier Numérique : Eviter les arnaques
DESCRIPTION:
URL:https://lincongrue.fr/event/atelier-numerique-eviter-les-arnaques/
LOCATION:Salle de L’Incongrue\, 32 Grand Rue\, Gières\, 38610\, France
CATEGORIES:Activités
ATTACH;FMTTYPE=image/jpeg:https://lincongrue.fr/wp-content/uploads/2024/03/Ateliers-numeriques_04_241.jpg
END:VEVENT
BEGIN:VEVENT
DTSTART;TZID=Europe/Paris:20240502T160000
DTEND;TZID=Europe/Paris:20240502T170000
DTSTAMP:20260424T110833
CREATED:20240411T152411Z
LAST-MODIFIED:20240502T142722Z
UID:13443-1714665600-1714669200@lincongrue.fr
SUMMARY:Pratique partagée de Taï Chï
DESCRIPTION:Pratique partagée de Taï Chi !\nDérivé des arts martiaux\, le taï-chi est une discipline corporelle qui fait partie des exercices énergétiques de la Médecine traditionnelle chinoise..\nVous serez accompagnés par Jeanne pour cet Atelier.\nRéservez si cela vous intéresse !\nA très vite.
URL:https://lincongrue.fr/event/pratique-partagee-de-tai-chi-5/
LOCATION:Salle des platanes en hiver / Exterieur en été
CATEGORIES:Activités
ATTACH;FMTTYPE=image/jpeg:https://lincongrue.fr/wp-content/uploads/2024/04/Pratique-partagee-de-Tai-Chi_LIncongrue_09_23-1.jpg
END:VEVENT
BEGIN:VEVENT
DTSTART;TZID=Europe/Paris:20240502T183000
DTEND;TZID=Europe/Paris:20240502T210000
DTSTAMP:20260424T110833
CREATED:20240322T084719Z
LAST-MODIFIED:20240327T074337Z
UID:13142-1714674600-1714683600@lincongrue.fr
SUMMARY:Orientation et lecture de carte topographiques
DESCRIPTION:
URL:https://lincongrue.fr/event/orientation-et-lecture-de-carte-topographiques/
LOCATION:Salle de L’Incongrue\, 32 Grand Rue\, Gières\, 38610\, France
CATEGORIES:Activités
ATTACH;FMTTYPE=image/jpeg:https://lincongrue.fr/wp-content/uploads/2024/03/Orientation-lecture-carte_04_24-1.jpg
END:VEVENT
END:VCALENDAR