BEGIN:VCALENDAR
VERSION:2.0
PRODID:-//L&#039;incongrue - ECPv6.15.20//NONSGML v1.0//EN
CALSCALE:GREGORIAN
METHOD:PUBLISH
X-ORIGINAL-URL:https://lincongrue.fr
X-WR-CALDESC:Évènements pour L&#039;incongrue
REFRESH-INTERVAL;VALUE=DURATION:PT1H
X-Robots-Tag:noindex
X-PUBLISHED-TTL:PT1H
BEGIN:VTIMEZONE
TZID:Europe/Paris
BEGIN:DAYLIGHT
TZOFFSETFROM:+0100
TZOFFSETTO:+0200
TZNAME:CEST
DTSTART:20230326T010000
END:DAYLIGHT
BEGIN:STANDARD
TZOFFSETFROM:+0200
TZOFFSETTO:+0100
TZNAME:CET
DTSTART:20231029T010000
END:STANDARD
BEGIN:DAYLIGHT
TZOFFSETFROM:+0100
TZOFFSETTO:+0200
TZNAME:CEST
DTSTART:20240331T010000
END:DAYLIGHT
BEGIN:STANDARD
TZOFFSETFROM:+0200
TZOFFSETTO:+0100
TZNAME:CET
DTSTART:20241027T010000
END:STANDARD
BEGIN:DAYLIGHT
TZOFFSETFROM:+0100
TZOFFSETTO:+0200
TZNAME:CEST
DTSTART:20250330T010000
END:DAYLIGHT
BEGIN:STANDARD
TZOFFSETFROM:+0200
TZOFFSETTO:+0100
TZNAME:CET
DTSTART:20251026T010000
END:STANDARD
END:VTIMEZONE
BEGIN:VEVENT
DTSTART;TZID=Europe/Paris:20240415T090000
DTEND;TZID=Europe/Paris:20240415T120000
DTSTAMP:20260424T131032
CREATED:20240314T161214Z
LAST-MODIFIED:20240314T165252Z
UID:13207-1713171600-1713182400@lincongrue.fr
SUMMARY:Atelier : Cousons et Tricotons ensemble !
DESCRIPTION:Atelier de couture et de tricot : l’idée est de coudre ensemble ou de tricoter\, parfois avec l’aide de couturières expérimentées\, sur des projets que vous apportez\, ou que vous découvrez sur place. \nC’est le lundi matin et après-midi. \n  \nC’est à prix libre. \n  \nInscrivez vous !
URL:https://lincongrue.fr/event/atelier-cousons-et-tricotons-ensemble-11/
LOCATION:Salle de L’Incongrue\, 32 Grand Rue\, Gières\, 38610\, France
CATEGORIES:Activités
ATTACH;FMTTYPE=image/jpeg:https://lincongrue.fr/wp-content/uploads/2024/02/Copie-de-Matin-Cousons-Ensemble-.jpg
END:VEVENT
BEGIN:VEVENT
DTSTART;TZID=Europe/Paris:20240415T090000
DTEND;TZID=Europe/Paris:20240415T120000
DTSTAMP:20260424T131032
CREATED:20240321T150723Z
LAST-MODIFIED:20240415T093740Z
UID:13596-1713171600-1713182400@lincongrue.fr
SUMMARY:Atelier : Cousons et Tricotons ensemble !
DESCRIPTION:Atelier de couture et de tricot : l’idée est de coudre ensemble ou de tricoter\, parfois avec l’aide de couturières expérimentées\, sur des projets que vous apportez\, ou que vous découvrez sur place.\nC’est le lundi matin et après-midi.\nC’est à prix libre.\nInscrivez vous !
URL:https://lincongrue.fr/event/atelier-cousons-et-tricotons-ensemble-12/
LOCATION:Salle de L’Incongrue\, 32 Grand Rue\, Gières\, 38610\, France
CATEGORIES:Activités
ATTACH;FMTTYPE=image/jpeg:https://lincongrue.fr/wp-content/uploads/2023/04/Copie-de-Atelier-Cousons-Ensemble-.jpg
END:VEVENT
BEGIN:VEVENT
DTSTART;TZID=Europe/Paris:20240415T134500
DTEND;TZID=Europe/Paris:20240415T160000
DTSTAMP:20260424T131032
CREATED:20240322T085312Z
LAST-MODIFIED:20240415T135327Z
UID:14318-1713188700-1713196800@lincongrue.fr
SUMMARY:Découverte et usages des plantes sauvages
DESCRIPTION:Venez découvrir les plantes comestibles\, leurs bienfaits ou leurs dangers…\nCueillir sans abimer\, en balade au départ de l’incongrue à 14h\nSur inscription\, 8 personnes maximum.
URL:https://lincongrue.fr/event/decouverte-et-usages-des-plantes-sauvages/
LOCATION:Salle de L’Incongrue\, 32 Grand Rue\, Gières\, 38610\, France
CATEGORIES:Activités
ATTACH;FMTTYPE=image/jpeg:https://lincongrue.fr/wp-content/uploads/2024/03/Decouverte-des-plantes-sauvages_04.jpg
END:VEVENT
BEGIN:VEVENT
DTSTART;TZID=Europe/Paris:20240415T190000
DTEND;TZID=Europe/Paris:20240415T200000
DTSTAMP:20260424T131032
CREATED:20240321T151118Z
LAST-MODIFIED:20240415T175252Z
UID:14033-1713207600-1713211200@lincongrue.fr
SUMMARY:Guitare
DESCRIPTION:
URL:https://lincongrue.fr/event/guitare-2/
LOCATION:Salle de L’Incongrue\, 32 Grand Rue\, Gières\, 38610\, France
CATEGORIES:Activités
ATTACH;FMTTYPE=image/jpeg:https://lincongrue.fr/wp-content/uploads/2024/03/Atelier-guitare_032.jpg
END:VEVENT
BEGIN:VEVENT
DTSTART;TZID=Europe/Paris:20240415T200000
DTEND;TZID=Europe/Paris:20240415T220000
DTSTAMP:20260424T131032
CREATED:20240321T150937Z
LAST-MODIFIED:20240415T193751Z
UID:14034-1713211200-1713218400@lincongrue.fr
SUMMARY:Musique et chant !
DESCRIPTION:Une soirée pour chanter et jouer de la musique ensemble\, sur inscription!\nApportez votre instrument si ça vous dit (la voix en fait partie!)\n1 fois/ mois\, le lundi
URL:https://lincongrue.fr/event/musique-et-chant-4/
LOCATION:Salle de L’Incongrue\, 32 Grand Rue\, Gières\, 38610\, France
CATEGORIES:Activités
ATTACH;FMTTYPE=image/jpeg:https://lincongrue.fr/wp-content/uploads/2024/03/Soiree-scene-ouverte-cahnt_03_241.jpg
END:VEVENT
END:VCALENDAR