BEGIN:VCALENDAR
VERSION:2.0
PRODID:-//L&#039;incongrue - ECPv6.15.20//NONSGML v1.0//EN
CALSCALE:GREGORIAN
METHOD:PUBLISH
X-ORIGINAL-URL:https://lincongrue.fr
X-WR-CALDESC:Évènements pour L&#039;incongrue
REFRESH-INTERVAL;VALUE=DURATION:PT1H
X-Robots-Tag:noindex
X-PUBLISHED-TTL:PT1H
BEGIN:VTIMEZONE
TZID:Europe/Paris
BEGIN:DAYLIGHT
TZOFFSETFROM:+0100
TZOFFSETTO:+0200
TZNAME:CEST
DTSTART:20230326T010000
END:DAYLIGHT
BEGIN:STANDARD
TZOFFSETFROM:+0200
TZOFFSETTO:+0100
TZNAME:CET
DTSTART:20231029T010000
END:STANDARD
BEGIN:DAYLIGHT
TZOFFSETFROM:+0100
TZOFFSETTO:+0200
TZNAME:CEST
DTSTART:20240331T010000
END:DAYLIGHT
BEGIN:STANDARD
TZOFFSETFROM:+0200
TZOFFSETTO:+0100
TZNAME:CET
DTSTART:20241027T010000
END:STANDARD
BEGIN:DAYLIGHT
TZOFFSETFROM:+0100
TZOFFSETTO:+0200
TZNAME:CEST
DTSTART:20250330T010000
END:DAYLIGHT
BEGIN:STANDARD
TZOFFSETFROM:+0200
TZOFFSETTO:+0100
TZNAME:CET
DTSTART:20251026T010000
END:STANDARD
END:VTIMEZONE
BEGIN:VEVENT
DTSTART;TZID=Europe/Paris:20240408T090000
DTEND;TZID=Europe/Paris:20240408T120000
DTSTAMP:20260424T154936
CREATED:20240314T154847Z
LAST-MODIFIED:20240314T165251Z
UID:13205-1712566800-1712577600@lincongrue.fr
SUMMARY:Atelier : Cousons et Tricotons ensemble !
DESCRIPTION:Atelier de couture et de tricot : l’idée est de coudre ensemble ou de tricoter\, parfois avec l’aide de couturières expérimentées\, sur des projets que vous apportez\, ou que vous découvrez sur place. \nC’est le lundi matin et après-midi. \n  \nC’est à prix libre. \n  \nInscrivez vous !
URL:https://lincongrue.fr/event/atelier-cousons-et-tricotons-ensemble-9/
LOCATION:Salle de L’Incongrue\, 32 Grand Rue\, Gières\, 38610\, France
CATEGORIES:Activités
ATTACH;FMTTYPE=image/jpeg:https://lincongrue.fr/wp-content/uploads/2024/02/Copie-de-Matin-Cousons-Ensemble-.jpg
END:VEVENT
BEGIN:VEVENT
DTSTART;TZID=Europe/Paris:20240408T134500
DTEND;TZID=Europe/Paris:20240408T160000
DTSTAMP:20260424T154936
CREATED:20240322T090325Z
LAST-MODIFIED:20240408T133813Z
UID:14314-1712583900-1712592000@lincongrue.fr
SUMMARY:Sortie identification de chants d'oiseaux
DESCRIPTION:Venez apprendre à les reconnaitre\, en balade au départ de l’incongrue à 14h\nSur inscription\, 8 personnes maximum.
URL:https://lincongrue.fr/event/sortie-identification-de-chants-doiseaux/
LOCATION:Salle de L’Incongrue\, 32 Grand Rue\, Gières\, 38610\, France
CATEGORIES:Activités
ATTACH;FMTTYPE=image/jpeg:https://lincongrue.fr/wp-content/uploads/2024/03/Identifier-oiseaux_041.jpg
END:VEVENT
BEGIN:VEVENT
DTSTART;TZID=Europe/Paris:20240408T140000
DTEND;TZID=Europe/Paris:20240408T170000
DTSTAMP:20260424T154936
CREATED:20240314T160855Z
LAST-MODIFIED:20240314T165251Z
UID:13206-1712584800-1712595600@lincongrue.fr
SUMMARY:Atelier: Cousons et Tricotons ensemble!
DESCRIPTION:Atelier de couture: l’idée est de coudre ensemble\, parfois avec l’aide de couturières expérimentées\, sur des projets que vous apportez\, ou que vous découvrez sur place. \nC’est le lundi après-midi. \nC’est à prix libre. \nInscrivez vous !
URL:https://lincongrue.fr/event/atelier-cousons-et-tricotons-ensemble-10/
LOCATION:Salle de L’Incongrue\, 32 Grand Rue\, Gières\, 38610\, France
CATEGORIES:Activités
ATTACH;FMTTYPE=image/jpeg:https://lincongrue.fr/wp-content/uploads/2024/02/Copie-de-Matin-Cousons-Ensemble-.jpg
END:VEVENT
BEGIN:VEVENT
DTSTART;TZID=Europe/Paris:20240408T193000
DTEND;TZID=Europe/Paris:20240408T213000
DTSTAMP:20260424T154936
CREATED:20240321T145825Z
LAST-MODIFIED:20240408T190741Z
UID:14020-1712604600-1712611800@lincongrue.fr
SUMMARY:ATTENTION REPORTE Cercle de femmes
DESCRIPTION:ATELIER REPORTE – au lundi 13 mai !\nQu’est qu’un cercle de femmes créatif avec moi ? Un espace d’écoute de soi et de l’autre\, de ses émotions\, ressentis\, de son vécu… Portées par les saisons intérieures et extérieures que nous traversons\, nous explorons nos univers grâce à la parole\, l’écriture\, le son\, le mouvement… Une bulle de douceur et de détente dans l’accueil de ce qui est là\, le soutien et le rire !
URL:https://lincongrue.fr/event/cercle-de-femmes-5/
LOCATION:Salle de L’Incongrue\, 32 Grand Rue\, Gières\, 38610\, France
CATEGORIES:Activités
ATTACH;FMTTYPE=image/jpeg:https://lincongrue.fr/wp-content/uploads/2024/03/Cercle-de-femmes-Creatif_02_241.jpg
END:VEVENT
END:VCALENDAR